BEGIN:VCALENDAR
VERSION:2.0
PRODID:-//Nebraska Science Festival - ECPv6.15.17.1//NONSGML v1.0//EN
CALSCALE:GREGORIAN
METHOD:PUBLISH
X-ORIGINAL-URL:https://www.nescifest.com
X-WR-CALDESC:Events for Nebraska Science Festival
REFRESH-INTERVAL;VALUE=DURATION:PT1H
X-Robots-Tag:noindex
X-PUBLISHED-TTL:PT1H
BEGIN:VTIMEZONE
TZID:America/Chicago
BEGIN:DAYLIGHT
TZOFFSETFROM:-0600
TZOFFSETTO:-0500
TZNAME:CDT
DTSTART:20210314T080000
END:DAYLIGHT
BEGIN:STANDARD
TZOFFSETFROM:-0500
TZOFFSETTO:-0600
TZNAME:CST
DTSTART:20211107T070000
END:STANDARD
BEGIN:DAYLIGHT
TZOFFSETFROM:-0600
TZOFFSETTO:-0500
TZNAME:CDT
DTSTART:20220313T080000
END:DAYLIGHT
BEGIN:STANDARD
TZOFFSETFROM:-0500
TZOFFSETTO:-0600
TZNAME:CST
DTSTART:20221106T070000
END:STANDARD
BEGIN:DAYLIGHT
TZOFFSETFROM:-0600
TZOFFSETTO:-0500
TZNAME:CDT
DTSTART:20230312T080000
END:DAYLIGHT
BEGIN:STANDARD
TZOFFSETFROM:-0500
TZOFFSETTO:-0600
TZNAME:CST
DTSTART:20231105T070000
END:STANDARD
END:VTIMEZONE
BEGIN:VEVENT
DTSTART;TZID=America/Chicago:20220416T100000
DTEND;TZID=America/Chicago:20220416T140000
DTSTAMP:20260423T105638
CREATED:20220325T154739Z
LAST-MODIFIED:20220325T154748Z
UID:10000447-1650103200-1650117600@www.nescifest.com
SUMMARY:Mad Hatter Tea Party
DESCRIPTION:Follow us down the rabbit hole! The Strategic Air Command & Aerospace Museum’s Spring Fling is now the “Mad Hatter’s Tea Party.” Visit the museum for a fun-filled\, whimsical day featuring tea from around the world. Plus\, kids of all ages can engage in educational activities like spin paint and more.  \nIf that wasn’t enough\, kids can participate in the scavenger hunt throughout the museum. \nFinally\, while you’re there\, be sure to say “hello” and grab a photo with Alice\, the Mad Hatter\, and the Red Queen from Alice in Wonderland.
URL:https://www.nescifest.com/event/mad-hatter-tea-party/
LOCATION:Strategic Air Command & Aerospace Museum\, 28210 W Park Hwy\, Ashland\, NE\, 68003\, United States
CATEGORIES:Arts & Culture,Science (general)
ATTACH;FMTTYPE=image/jpeg:https://www.nescifest.com/wp-content/uploads/2022/03/madhatter.jpgUSE.jpg
END:VEVENT
END:VCALENDAR