BEGIN:VCALENDAR
VERSION:2.0
PRODID:-//Nebraska Science Festival - ECPv6.15.17.1//NONSGML v1.0//EN
CALSCALE:GREGORIAN
METHOD:PUBLISH
X-WR-CALNAME:Nebraska Science Festival
X-ORIGINAL-URL:https://www.nescifest.com
X-WR-CALDESC:Events for Nebraska Science Festival
REFRESH-INTERVAL;VALUE=DURATION:PT1H
X-Robots-Tag:noindex
X-PUBLISHED-TTL:PT1H
BEGIN:VTIMEZONE
TZID:America/Chicago
BEGIN:DAYLIGHT
TZOFFSETFROM:-0600
TZOFFSETTO:-0500
TZNAME:CDT
DTSTART:20250309T080000
END:DAYLIGHT
BEGIN:STANDARD
TZOFFSETFROM:-0500
TZOFFSETTO:-0600
TZNAME:CST
DTSTART:20251102T070000
END:STANDARD
BEGIN:DAYLIGHT
TZOFFSETFROM:-0600
TZOFFSETTO:-0500
TZNAME:CDT
DTSTART:20260308T080000
END:DAYLIGHT
BEGIN:STANDARD
TZOFFSETFROM:-0500
TZOFFSETTO:-0600
TZNAME:CST
DTSTART:20261101T070000
END:STANDARD
BEGIN:DAYLIGHT
TZOFFSETFROM:-0600
TZOFFSETTO:-0500
TZNAME:CDT
DTSTART:20270314T080000
END:DAYLIGHT
BEGIN:STANDARD
TZOFFSETFROM:-0500
TZOFFSETTO:-0600
TZNAME:CST
DTSTART:20271107T070000
END:STANDARD
END:VTIMEZONE
BEGIN:VEVENT
DTSTART;VALUE=DATE:20260401
DTEND;VALUE=DATE:20260501
DTSTAMP:20260424T061738
CREATED:20210310T165259Z
LAST-MODIFIED:20260225T165014Z
UID:10000495-1775001600-1777593599@www.nescifest.com
SUMMARY:NE SciFest Social Media Trivia
DESCRIPTION:Science is all around us so let’s have some virtual fun! Running every day through the festival we’re bringing back our NE SciFest Social Media Science Trivia.\n\n\n\nEveryday we will be posting a trivia question (riddle\, clue\, etc.) on our social media pages related to science. All you need to do is respond with the answer.\n\n\n\nSimply take or find a picture of the item in the clue and post it to Facebook (comments section) or Twitter (X) with the hashtag #nescifest.
URL:https://www.nescifest.com/event/ne-scifest-social-media-science-trivia/
LOCATION:NE
CATEGORIES:Science (general)
ATTACH;FMTTYPE=image/jpeg:https://www.nescifest.com/wp-content/uploads/2021/03/Trivia-A-2021.jpg
END:VEVENT
BEGIN:VEVENT
DTSTART;VALUE=DATE:20260401
DTEND;VALUE=DATE:20260501
DTSTAMP:20260424T061738
CREATED:20210310T200922Z
LAST-MODIFIED:20260225T164814Z
UID:10000496-1775001600-1777593599@www.nescifest.com
SUMMARY:NE SciFest Scavenger Hunt
DESCRIPTION:Let’s go outside and hunt for science! \nDownload the scavenger hunt (below) and go out and search for science. Ten quests await you – no matter where you live in Nebraska. You have all month long\, April 1-30\, to complete these tasks. Tag us on social media or email us and share your completed hunt! \nNESciFest-Scavenger-Hunt-2026 \n  \n 
URL:https://www.nescifest.com/event/ne-scifest-scavenger-hunt/
LOCATION:NE
CATEGORIES:Environment,Plants,Science (general)
ATTACH;FMTTYPE=image/jpeg:https://www.nescifest.com/wp-content/uploads/2021/03/Scavenger-Hunt-2021-02.jpg
END:VEVENT
BEGIN:VEVENT
DTSTART;VALUE=DATE:20260401
DTEND;VALUE=DATE:20260501
DTSTAMP:20260424T061738
CREATED:20260227T173903Z
LAST-MODIFIED:20260227T173903Z
UID:10001728-1775001600-1777593599@www.nescifest.com
SUMMARY:NE SciFest Ice Cream
DESCRIPTION:Available in April – until pints run out\, our new NE SciFest signature ice cream flavor from eCreamery: LUNAR LEMON. \nLunar Lemon: Lemon Cake Ice Cream\, White Chocolate Chips\, Graham Crunch and Raspberry Swirls. \nPurchase a pint for science!
URL:https://www.nescifest.com/event/ne-scifest-ice-cream-2/
LOCATION:eCreamery Ice Cream & Gelato\, 5001 Underwood Ave\, Omaha\, NE\, 68132\, United States
CATEGORIES:Food & Drink
ATTACH;FMTTYPE=image/jpeg:https://www.nescifest.com/wp-content/uploads/2023/03/eCreamery-2026.jpg
END:VEVENT
BEGIN:VEVENT
DTSTART;VALUE=DATE:20260424
DTEND;VALUE=DATE:20260501
DTSTAMP:20260424T061738
CREATED:20260304T181209Z
LAST-MODIFIED:20260319T184500Z
UID:10001742-1776988800-1777593599@www.nescifest.com
SUMMARY:City Nature Challenge Lincoln-Lancaster
DESCRIPTION:There is nature all around us! Knowing what species are in our city and where they are helps us study and protect them. The ONLY way to do that is by all of us – scientists\, land managers\, and the community – working together to find and document the nature in our area. \nBy participating in the City Nature Challenge\, not only do you learn more about your local nature\, but you can also make your community a better place – for you and other species. \nIf you live in Lincoln-Lancaster County\, you can join cities from around the world in documenting the wildlife that calls our urban environments home during the annual City Nature Challenge! \nMake observations to iNaturalist- April 24th-27th \nHelp us ID observations on iNaturalist- April 28th-May 13th
URL:https://www.nescifest.com/event/city-nature-challenge-lincoln-lancaster/
LOCATION:Lancaster County\, Lincoln\, NE\, United States
CATEGORIES:Animals,Environment,Plants,Science (general)
ATTACH;FMTTYPE=image/jpeg:https://www.nescifest.com/wp-content/uploads/2026/03/CuseNC-Lincoln-Lancaster-County.jpg
END:VEVENT
BEGIN:VEVENT
DTSTART;TZID=America/Chicago:20260424T080000
DTEND;TZID=America/Chicago:20260424T163000
DTSTAMP:20260424T061738
CREATED:20260225T222858Z
LAST-MODIFIED:20260225T222858Z
UID:10001723-1777017600-1777048200@www.nescifest.com
SUMMARY:North Platte Hatchery
DESCRIPTION:The North Platte Hatchery is open to the public and tours may be scheduled during normal working hours. Hatchery information is on display at the hatch house. \nThe North Platte Fish Hatchery opened in 1943. The facility utilizes the adjacent Nebraska Public Power District irrigation canal to feed 43 earthen ponds\, water that ultimately is returned to the canal after being used for fish production. \nThe North Platte Hatchery produces a variety of coolwater and warmwater fish species including regular production of walleye\, white bass\, blue catfish and channel catfish. On demand\, the hatchery also produces yellow perch\, black and white crappie\, wiper\, striped bass\, bluegill\, muskellunge\, tiger muskie\, smallmouth bass\, largemouth bass\, northern pike\, sauger and saugeye. North Platte hatchery staff also makes annual collections of walleye and white bass eggs and milt from regional water bodies. \nIn addition to the hatchery\, this property houses the Aquatic Conservation Facility where our team conducts mussel propagation research\, as well as other aquatic work. \nTo prevent the spread of disease and reduce stress to fish\, some areas of the facility may not be open to visitation. Contact the hatchery in advance to schedule a tour. \n 
URL:https://www.nescifest.com/event/north-platte-hatchery/2026-04-24/
LOCATION:The North Platte Fish Hatchery\, 444 E State Farm Rd.\, North Platte\, NE\, 69101\, United States
CATEGORIES:Animals,Environment
ATTACH;FMTTYPE=image/jpeg:https://www.nescifest.com/wp-content/uploads/2026/02/NorthUSEPlatte-Fish-Hatchery-599x299@2x.jpg
END:VEVENT
BEGIN:VEVENT
DTSTART;TZID=America/Chicago:20260424T090000
DTEND;TZID=America/Chicago:20260424T170000
DTSTAMP:20260424T061738
CREATED:20260203T195925Z
LAST-MODIFIED:20260203T195925Z
UID:10001622-1777021200-1777050000@www.nescifest.com
SUMMARY:Wings Over the Platte
DESCRIPTION:Flowing across the heart of the Great Plains\, the Platte River has long been a source of life\, movement\, and inspiration. Wings Over the Platte celebrates the landscapes\, waterways\, and wildlife that define this region through the vision of artists connected to the Platte River Valley. \nFrom sweeping prairie horizons and ever-changing skies to intimate studies of plants\, animals\, and waterways\, this juried exhibition captures the spirit of a place where nature and people have been intertwined for generations. Artwork in painting\, photography\, sculpture\, and more invites visitors to experience the river not just as scenery\, but as a living force that shapes Nebraska’s land\, history\, and community. Many works will also be available for purchase\, offering a chance to take home a piece of the river’s story. \nJoin The Stuhr Museum in honoring the connection between art and nature\, and the timeless role the Platte River plays in shaping both.
URL:https://www.nescifest.com/event/wings-over-the-platte/2026-04-24/
LOCATION:Stuhr Museum\, 3133 West Highway 34\, Grand Island\, NE\, 68801
CATEGORIES:Animals,Arts & Culture,Environment
ATTACH;FMTTYPE=image/jpeg:https://www.nescifest.com/wp-content/uploads/2026/02/stuhrUSE.jpg
END:VEVENT
BEGIN:VEVENT
DTSTART;TZID=America/Chicago:20260424T100000
DTEND;TZID=America/Chicago:20260424T163000
DTSTAMP:20260424T061738
CREATED:20260310T183809Z
LAST-MODIFIED:20260401T211838Z
UID:10001764-1777024800-1777048200@www.nescifest.com
SUMMARY:Discovery Days at The Hall of History
DESCRIPTION:Visit The Hall of History Museum at Boys Town\, and explore their science stations. \nMake your own comic books\, design your own superhero outfit\, learn about pottery\, make a molding of a butterfly or dinosaur – to take home\, and take a peek into microscopes and guess how much your brain weighs. Plus\, don’t forget to stop by their “Brain Games” wall. \n  \nFree admission. The Hall of History is open Monday through Saturday from 10am until 4:30pm and on Sundays from 11am until 4pm.
URL:https://www.nescifest.com/event/discovery-days-at-the-hall-of-history/2026-04-24/
LOCATION:Boys Town Hall of History\, 14057 Flanagan Blvd.\, Boys Town\, NE\, 68010\, United States
CATEGORIES:Science (general)
ATTACH;FMTTYPE=image/jpeg:https://www.nescifest.com/wp-content/uploads/2026/03/useScienceFest.jpg
END:VEVENT
BEGIN:VEVENT
DTSTART;TZID=America/Chicago:20260424T130000
DTEND;TZID=America/Chicago:20260424T160000
DTSTAMP:20260424T061738
CREATED:20260203T201618Z
LAST-MODIFIED:20260319T184459Z
UID:10001632-1777035600-1777046400@www.nescifest.com
SUMMARY:Senior Design Showcase
DESCRIPTION:The UNL College of Engineering’s annual Senior Design Showcase\, Nebraska’s premier undergraduate engineering student design event\, is scheduled for Friday\, April 24 in Kiewit Hall on UNL’s City Campus. \nThis event highlights new and innovative projects from teams of graduating seniors from across the college. Their projects reflect real-world professional challenges\, environments and\, in some cases\, collaborations with industry clients to develop products and devices that could have immediate impact. \nThe showcase is free and open to the public.
URL:https://www.nescifest.com/event/senior-design-showcase/
LOCATION:UNL Kiewit Hall\, 1700 Vine St.\, Lincoln\, NE\, 68588\, United States
CATEGORIES:Science (general),Technology
ATTACH;FMTTYPE=image/jpeg:https://www.nescifest.com/wp-content/uploads/2024/02/ne-engineering.jpg
END:VEVENT
BEGIN:VEVENT
DTSTART;TZID=America/Chicago:20260424T160000
DTEND;TZID=America/Chicago:20260424T170000
DTSTAMP:20260424T061738
CREATED:20260421T185937Z
LAST-MODIFIED:20260421T185937Z
UID:10002250-1777046400-1777050000@www.nescifest.com
SUMMARY:2026 Maiben Lecture
DESCRIPTION:For 136 years\, the Nebraska Academy of Sciences has hosted an annual meeting designed to bring the scientific community across the state together to ‘share their science’. \nIn conjunction with the meeting\, Dr. Deborah Bathke\, a research associate professor at the University of Nebraska–Lincoln\, climate scientist\, and Nebraska’s state climatologist\, will deliver the annual Maiben Lecture titled\, “Shifting Extremes: Understanding Nebraska’s Changing Climate and Preparing for What Lies Ahead\,” at 4 p.m. \nThe lecture free and open to the public. \n 
URL:https://www.nescifest.com/event/2026-maiben-lecture/
LOCATION:UNL East Campus Union\, 1705 Arbor Drive\, Lincoln\, NE\, 68503\, United States
CATEGORIES:Environment,Weather
ATTACH;FMTTYPE=image/png:https://www.nescifest.com/wp-content/uploads/2026/04/uselecture.png
END:VEVENT
BEGIN:VEVENT
DTSTART;TZID=America/Chicago:20260424T160000
DTEND;TZID=America/Chicago:20260426T110000
DTSTAMP:20260424T061738
CREATED:20260304T175643Z
LAST-MODIFIED:20260319T184458Z
UID:10001738-1777046400-1777201200@www.nescifest.com
SUMMARY:Sharp-tailed grouse viewing at Niobrara State Park
DESCRIPTION:Experience the natural wonder of the sharp-tailed grouse mating dance from a grouse viewing blind at Niobrara State Park! This sunrise ritual is an ancient and glorious display from one of Nebraska’s most famous grassland birds. \nReservations\nReserve the viewing blind (free of charge) any time between March 1 and May 1\, with peak viewing between March 7 and April 20. The large trailer blind can hold up to 12 guests (up to 10 comfortably). In addition\, there are two small pop-up blinds available upon request for those with bigger cameras and camera stands that won’t fit in the trailer blind. Blinds are first come\, first serve by reservation only. Book your spots by calling the park office at 402-857-3373. \nA 2026 state park vehicle permit is required for park entry.
URL:https://www.nescifest.com/event/sharp-tailed-grouse-viewing-at-niobrara-state-park-5/
LOCATION:Niobrara State Park\, 89261 522 Ave\, Niobrara\, NE\, 68760-6087\, United States
CATEGORIES:Animals
ATTACH;FMTTYPE=image/jpeg:https://www.nescifest.com/wp-content/uploads/2025/03/usegrouse.jpg
END:VEVENT
BEGIN:VEVENT
DTSTART;TZID=America/Chicago:20260424T170000
DTEND;TZID=America/Chicago:20260424T200000
DTSTAMP:20260424T061738
CREATED:20260421T191058Z
LAST-MODIFIED:20260421T191058Z
UID:10002253-1777050000-1777060800@www.nescifest.com
SUMMARY:2026 Northeast Nebraska Extension Master Gardener Plant Fair and Market Vendors
DESCRIPTION:Held at Northeast Community College\, Chuck Pohlman Ag Complex is the 2026 Northeast Extension Master Gardener Plant Fair and Market Vendors\, back for its 32nd year! \nEducational speakers will be present Friday and Saturday with proceeds from the fair helping to support educational speakers and horticulture scholarships to Northeast Community College. \nPlus\, stop by the Ask the Master Gardener booth\, where a master gardener will answer all your questions!
URL:https://www.nescifest.com/event/2026-northeast-nebraska-extension-master-gardener-plant-fair-and-market-vendors/2026-04-24/
LOCATION:Northeast Community College Agriculture Complex\, 2301 E Benjamin Ave\, Norfolk\, NE\, 68701\, United States
CATEGORIES:Plants
ATTACH;FMTTYPE=image/jpeg:https://www.nescifest.com/wp-content/uploads/2026/04/pluseant.jpg
END:VEVENT
BEGIN:VEVENT
DTSTART;TZID=America/Chicago:20260424T173000
DTEND;TZID=America/Chicago:20260424T200000
DTSTAMP:20260424T061738
CREATED:20260331T185733Z
LAST-MODIFIED:20260331T185733Z
UID:10002215-1777051800-1777060800@www.nescifest.com
SUMMARY:SCC Family Science Night
DESCRIPTION:Come celebrate Earth Day at SCC Family Science Night featuring exciting activities\, great prizes\, and free food. \n\n\n\n\nFeaturing activities such as: \n\nTelescope viewing;\nRobots;\nSolar System Model;\nConservation of angular movement;\nScience of fermentation;\nBio-industrial Manufacturing model station; and more!
URL:https://www.nescifest.com/event/scc-family-science-night-2/
LOCATION:Southeast Community College Lincoln\, 8800 O St.\, Lincoln\, NE\, 68520\, United States
CATEGORIES:Science (general)
ATTACH;FMTTYPE=image/png:https://www.nescifest.com/wp-content/uploads/2026/03/scc2026USe.png
END:VEVENT
BEGIN:VEVENT
DTSTART;TZID=America/Chicago:20260424T190000
DTEND;TZID=America/Chicago:20260424T200000
DTSTAMP:20260424T061738
CREATED:20260205T202849Z
LAST-MODIFIED:20260205T203707Z
UID:10001636-1777057200-1777060800@www.nescifest.com
SUMMARY:The Fred G. Dale Planetarium
DESCRIPTION:Doors open 20 minutes prior to the start of a show. Planetarium shows generally include a tour of the current night sky\, a view of the constellations\, and a full-dome video. All shows last about 45 minutes. \nApril Shows: \nFriday\, April 3\n7 p.m. Planetarium show – Living Worlds \nWhether earthly or alien\, all life leaves a trace. Journey through space and time to discover how life makes Earth livable\, where it could be found elsewhere in the cosmos\, and what new technologies we might use to find it. Along the way\, you’ll learn how light and color can help us spot other living worlds even from vast distances – and develop a new appreciation for the one-of-a-kind planet right beneath our feet. Narrated by Daveed Diggs. \nSaturday\, April 4\n1 p.m. Planetarium show – STARS \nFriday\, April 10\n7 p.m. Planetarium show – Liquidverse \nLiquidverse invites you into an audiovisual symphony exploring the micro- and macro-scale of the universe. Contemplate the vastness of our galaxy\, the tininess of microorganisms\, and the kinship of all life in the universe through vibrant\, abstract visuals and the sonic power of an orchestra\, enveloping you in sound. \nSaturday\, April 11\n1 p.m. Planetarium show – Edge of Darkness \nEdge of Darkness features amazing scenes of places never before seen gathered by key space missions\, culminating with groundbreaking discoveries in 2015. It features a spectacular flight though the great cliffs on comet 67P\, a close look at the fascinating bright “lights” on Ceres\, and the first ever close-ups of dwarf binary planet Pluto/Charon and its moons. Narrated by Hayley Atwell. \nFriday\, April 17 – Earth Day Celebration\n7 p.m. Planetarium show – Dynamic Earth\n8 p.m. Planetarium show – Living Worlds \nDynamic Earth explores the inner workings of Earth’s great life support system: the global climate. With visualizations based on satellite monitoring data and advanced supercomputer simulations\, this cutting-edge production follows a trail of energy that flows from the Sun into the interlocking systems that shape our climate: the atmosphere\, oceans\, and the biosphere. Audiences will ride along on swirling ocean and wind currents\, dive into the heart of a monster hurricane\, come face-to-face with sharks and gigantic whales\, and fly into roiling volcanoes. Narrated by Liam Neeson. \nSaturday\, April 18 – Earth Day Celebration\n1 p.m. Planetarium show – Living Worlds\n2 p.m. Planetarium show – Dynamic Earth \nFriday\, April 24\n7 p.m. Planetarium show – Edge of Darkness \nSaturday\, April 25\n1 p.m. Planetarium show – Tales of a Time Traveler \nIn Tales of a Time Traveler\, you will discover that time is not so easily defined. Time is illusive\, impossible to hold. It can’t be owned. It can’t be stopped. Time travel surrounds you – from the biological clock in your brain and the changing shadows on a sundial\, to the history of life on Earth. Then the story expands to the lives of stars\, the time scale of the Big Bang\, and the distortion of time by gravity. Narrated by David Tennant.
URL:https://www.nescifest.com/event/the-fred-g-dale-planetarium/2026-04-24/
LOCATION:Fred G. Dale Planetarium\, Gulliver Dr.\, Wayne\, NE\, 68787\, United States
CATEGORIES:Astronomy
ATTACH;FMTTYPE=image/jpeg:https://www.nescifest.com/wp-content/uploads/2026/02/galeUSEplanetarium_1.jpg
END:VEVENT
END:VCALENDAR