BEGIN:VCALENDAR
VERSION:2.0
PRODID:-//Nebraska Science Festival - ECPv6.15.17.1//NONSGML v1.0//EN
CALSCALE:GREGORIAN
METHOD:PUBLISH
X-WR-CALNAME:Nebraska Science Festival
X-ORIGINAL-URL:https://www.nescifest.com
X-WR-CALDESC:Events for Nebraska Science Festival
REFRESH-INTERVAL;VALUE=DURATION:PT1H
X-Robots-Tag:noindex
X-PUBLISHED-TTL:PT1H
BEGIN:VTIMEZONE
TZID:America/Chicago
BEGIN:DAYLIGHT
TZOFFSETFROM:-0600
TZOFFSETTO:-0500
TZNAME:CDT
DTSTART:20220313T080000
END:DAYLIGHT
BEGIN:STANDARD
TZOFFSETFROM:-0500
TZOFFSETTO:-0600
TZNAME:CST
DTSTART:20221106T070000
END:STANDARD
BEGIN:DAYLIGHT
TZOFFSETFROM:-0600
TZOFFSETTO:-0500
TZNAME:CDT
DTSTART:20230312T080000
END:DAYLIGHT
BEGIN:STANDARD
TZOFFSETFROM:-0500
TZOFFSETTO:-0600
TZNAME:CST
DTSTART:20231105T070000
END:STANDARD
BEGIN:DAYLIGHT
TZOFFSETFROM:-0600
TZOFFSETTO:-0500
TZNAME:CDT
DTSTART:20240310T080000
END:DAYLIGHT
BEGIN:STANDARD
TZOFFSETFROM:-0500
TZOFFSETTO:-0600
TZNAME:CST
DTSTART:20241103T070000
END:STANDARD
END:VTIMEZONE
BEGIN:VEVENT
DTSTART;TZID=America/Chicago:20230417T090000
DTEND;TZID=America/Chicago:20230417T170000
DTSTAMP:20260419T232917
CREATED:20230224T161429Z
LAST-MODIFIED:20230224T161458Z
UID:10000718-1681722000-1681750800@www.nescifest.com
SUMMARY:Washed Ashore: Art to Save the Sea
DESCRIPTION:Giant sculptures of sea life\, made from marine debris collected on Oregon’s beaches\, graphically illustrate the tragedy of plastic pollution in our ocean and waterways. The epic exhibit\, Washed Ashore: Art to Save the Sea\, at Lauritzen Gardens includes a titanic triggerfish\, a pair of grand penguins\, and an 11-foot-long shark named Chompers! More than a set of eye-catching sculptures\, these thought-provoking pieces are designed to inspire conversations about conservation and generate positive changes and behaviors towards the environment.
URL:https://www.nescifest.com/event/washed-ashore-art-to-save-the-sea/2023-04-17/
LOCATION:Lauritzen Gardens\, 100 Bancroft Street\, Omaha\, NE\, 68108
CATEGORIES:Arts & Culture,Environment
ATTACH;FMTTYPE=image/jpeg:https://www.nescifest.com/wp-content/uploads/2023/02/washed-ashore.jpg
END:VEVENT
BEGIN:VEVENT
DTSTART;TZID=America/Chicago:20230417T090000
DTEND;TZID=America/Chicago:20230417T170000
DTSTAMP:20260419T232917
CREATED:20230224T162523Z
LAST-MODIFIED:20230224T162523Z
UID:10000752-1681722000-1681750800@www.nescifest.com
SUMMARY:StoryWalk®: "Living Things Need Water"
DESCRIPTION:Take a stroll through the arboretum at Lauritzen Gardens and learn how water is important to living things- animals\, people\, and plants. Following along with the story “Living Things Need Water” by Karen Aleo\, your family can take part in some fun activities. StoryWalk® combines the love of reading with healthy\, fun activities that fit the theme of the story to exercise your brain and body. Included with paid admission or membership.
URL:https://www.nescifest.com/event/storywalk-living-things-need-water/2023-04-17/
LOCATION:Lauritzen Gardens\, 100 Bancroft Street\, Omaha\, NE\, 68108
CATEGORIES:Animals,Arts & Culture,Environment,Fitness,Plants
ATTACH;FMTTYPE=image/jpeg:https://www.nescifest.com/wp-content/uploads/2023/02/book.jpg
END:VEVENT
BEGIN:VEVENT
DTSTART;TZID=America/Chicago:20230417T150000
DTEND;TZID=America/Chicago:20230417T163000
DTSTAMP:20260419T232917
CREATED:20230316T191231Z
LAST-MODIFIED:20230316T191231Z
UID:10000834-1681743600-1681749000@www.nescifest.com
SUMMARY:Hall of History Hands-On Weekly Activities
DESCRIPTION:This April\, visit the Boys Town Hall of History and learn about various science topics with weekly activities. Each week the Hall of History will host staff-led science activities from 3:00 p.m. to 4:30 p.m. Plus\, our hearing display including a hearing simulator will be featured throughout the month to teach visitors young and old about the science of hearing\, what causes hearing loss and what hearing loss sounds like to a person with no hearing concerns. \nMonthly feature: Hearing Display\, available during Hall of History open hours \nWeekly features: \nMarble Run (physics\, gravity)            M-F April 3-7\, 3:00pm – 4:30pm \nPrinter Press (ink pressing)               M-F April 10-14\, 3:00pm – 4:30pm \nMolding Process (molds\, statues)    M-F April 17-21\, 3:00pm – 4:30pm
URL:https://www.nescifest.com/event/hall-of-history-hands-on-weekly-activities/2023-04-17/
LOCATION:Boys Town Hall of History\, 14057 Flanagan Blvd.\, Boys Town\, NE\, 68010\, United States
CATEGORIES:Arts & Culture,Science (general)
ATTACH;FMTTYPE=image/jpeg:https://www.nescifest.com/wp-content/uploads/2023/03/hall-of-history.jpg
END:VEVENT
END:VCALENDAR