BEGIN:VCALENDAR
VERSION:2.0
PRODID:-//Nebraska Science Festival - ECPv6.15.17.1//NONSGML v1.0//EN
CALSCALE:GREGORIAN
METHOD:PUBLISH
X-ORIGINAL-URL:https://www.nescifest.com
X-WR-CALDESC:Events for Nebraska Science Festival
REFRESH-INTERVAL;VALUE=DURATION:PT1H
X-Robots-Tag:noindex
X-PUBLISHED-TTL:PT1H
BEGIN:VTIMEZONE
TZID:America/Chicago
BEGIN:DAYLIGHT
TZOFFSETFROM:-0600
TZOFFSETTO:-0500
TZNAME:CDT
DTSTART:20250309T080000
END:DAYLIGHT
BEGIN:STANDARD
TZOFFSETFROM:-0500
TZOFFSETTO:-0600
TZNAME:CST
DTSTART:20251102T070000
END:STANDARD
BEGIN:DAYLIGHT
TZOFFSETFROM:-0600
TZOFFSETTO:-0500
TZNAME:CDT
DTSTART:20260308T080000
END:DAYLIGHT
BEGIN:STANDARD
TZOFFSETFROM:-0500
TZOFFSETTO:-0600
TZNAME:CST
DTSTART:20261101T070000
END:STANDARD
BEGIN:DAYLIGHT
TZOFFSETFROM:-0600
TZOFFSETTO:-0500
TZNAME:CDT
DTSTART:20270314T080000
END:DAYLIGHT
BEGIN:STANDARD
TZOFFSETFROM:-0500
TZOFFSETTO:-0600
TZNAME:CST
DTSTART:20271107T070000
END:STANDARD
END:VTIMEZONE
BEGIN:VEVENT
DTSTART;TZID=America/Chicago:20260425T090000
DTEND;TZID=America/Chicago:20260425T170000
DTSTAMP:20260423T064542
CREATED:20260203T195925Z
LAST-MODIFIED:20260203T195925Z
UID:10001623-1777107600-1777136400@www.nescifest.com
SUMMARY:Wings Over the Platte
DESCRIPTION:Flowing across the heart of the Great Plains\, the Platte River has long been a source of life\, movement\, and inspiration. Wings Over the Platte celebrates the landscapes\, waterways\, and wildlife that define this region through the vision of artists connected to the Platte River Valley. \nFrom sweeping prairie horizons and ever-changing skies to intimate studies of plants\, animals\, and waterways\, this juried exhibition captures the spirit of a place where nature and people have been intertwined for generations. Artwork in painting\, photography\, sculpture\, and more invites visitors to experience the river not just as scenery\, but as a living force that shapes Nebraska’s land\, history\, and community. Many works will also be available for purchase\, offering a chance to take home a piece of the river’s story. \nJoin The Stuhr Museum in honoring the connection between art and nature\, and the timeless role the Platte River plays in shaping both.
URL:https://www.nescifest.com/event/wings-over-the-platte/2026-04-25/
LOCATION:Stuhr Museum\, 3133 West Highway 34\, Grand Island\, NE\, 68801
CATEGORIES:Animals,Arts & Culture,Environment
ATTACH;FMTTYPE=image/jpeg:https://www.nescifest.com/wp-content/uploads/2026/02/stuhrUSE.jpg
END:VEVENT
BEGIN:VEVENT
DTSTART;TZID=America/Chicago:20260425T183000
DTEND;TZID=America/Chicago:20260425T200000
DTSTAMP:20260423T064542
CREATED:20260421T150642Z
LAST-MODIFIED:20260421T150744Z
UID:10002249-1777141800-1777147200@www.nescifest.com
SUMMARY:Anatomy of a Moment:  Capturing Truth in Court & Medicine
DESCRIPTION:Before the opening of his upcoming KANEKO exhibition Gestures\, join Peter Millett\, a Seattle-based sculptor and courtroom illustrator\, and Dr. James Vargo\, a Children’s Nebraska craniofacial surgeon and medical illustrator\, for a compelling\, unscripted conversation about the challenges of rendering truth under pressure and recording the human experience. \nWhile one works in operating rooms and the other in high-stakes legal environments\, both are tasked with translating fleeting\, complex realities into images that inform\, persuade\, and endure. This program examines how artists capture and reconstruct critical moments\, exploring the questions of accuracy\, interpretation\, and ethics that underlie every creative decision. \nAnatomy of a Moment invites audiences to reconsider what it means to “document reality\,” and how artists in medicine and law shape our understanding of truth in moments that cannot be replayed. \n$15 General Admission\n$10 Members and Students \nReserve your spot today.
URL:https://www.nescifest.com/event/anatomy-of-a-moment-capturing-truth-in-court-medicine/
LOCATION:KANEKO\, 1111 Jones Street\, Omaha\, NE\, 68102\, United States
CATEGORIES:Arts & Culture,Health & Medicine
ATTACH;FMTTYPE=image/png:https://www.nescifest.com/wp-content/uploads/2026/04/usekaneko.png
ORGANIZER;CN="KANEKO":MAILTO:nescifest@gmail.com
END:VEVENT
BEGIN:VEVENT
DTSTART;TZID=America/Chicago:20260426T100000
DTEND;TZID=America/Chicago:20260426T170000
DTSTAMP:20260423T064542
CREATED:20260203T200213Z
LAST-MODIFIED:20260225T163047Z
UID:10001630-1777197600-1777222800@www.nescifest.com
SUMMARY:Wings Over the Platte
DESCRIPTION:Flowing across the heart of the Great Plains\, the Platte River has long been a source of life\, movement\, and inspiration. Wings Over the Platte celebrates the landscapes\, waterways\, and wildlife that define this region through the vision of artists connected to the Platte River Valley. \nFrom sweeping prairie horizons and ever-changing skies to intimate studies of plants\, animals\, and waterways\, this juried exhibition captures the spirit of a place where nature and people have been intertwined for generations. Artwork in painting\, photography\, sculpture\, and more invites visitors to experience the river not just as scenery\, but as a living force that shapes Nebraska’s land\, history\, and community. Many works will also be available for purchase\, offering a chance to take home a piece of the river’s story. \nJoin The Stuhr Museum in honoring the connection between art and nature\, and the timeless role the Platte River plays in shaping both.
URL:https://www.nescifest.com/event/wings-over-the-platte-2/2026-04-26/
LOCATION:Stuhr Museum\, 3133 West Highway 34\, Grand Island\, NE\, 68801
CATEGORIES:Animals,Arts & Culture,Environment
ATTACH;FMTTYPE=image/jpeg:https://www.nescifest.com/wp-content/uploads/2026/02/stuhrUSE.jpg
END:VEVENT
BEGIN:VEVENT
DTSTART;TZID=America/Chicago:20260427T090000
DTEND;TZID=America/Chicago:20260427T170000
DTSTAMP:20260423T064542
CREATED:20260203T195925Z
LAST-MODIFIED:20260203T195925Z
UID:10001624-1777280400-1777309200@www.nescifest.com
SUMMARY:Wings Over the Platte
DESCRIPTION:Flowing across the heart of the Great Plains\, the Platte River has long been a source of life\, movement\, and inspiration. Wings Over the Platte celebrates the landscapes\, waterways\, and wildlife that define this region through the vision of artists connected to the Platte River Valley. \nFrom sweeping prairie horizons and ever-changing skies to intimate studies of plants\, animals\, and waterways\, this juried exhibition captures the spirit of a place where nature and people have been intertwined for generations. Artwork in painting\, photography\, sculpture\, and more invites visitors to experience the river not just as scenery\, but as a living force that shapes Nebraska’s land\, history\, and community. Many works will also be available for purchase\, offering a chance to take home a piece of the river’s story. \nJoin The Stuhr Museum in honoring the connection between art and nature\, and the timeless role the Platte River plays in shaping both.
URL:https://www.nescifest.com/event/wings-over-the-platte/2026-04-27/
LOCATION:Stuhr Museum\, 3133 West Highway 34\, Grand Island\, NE\, 68801
CATEGORIES:Animals,Arts & Culture,Environment
ATTACH;FMTTYPE=image/jpeg:https://www.nescifest.com/wp-content/uploads/2026/02/stuhrUSE.jpg
END:VEVENT
BEGIN:VEVENT
DTSTART;TZID=America/Chicago:20260428T090000
DTEND;TZID=America/Chicago:20260428T170000
DTSTAMP:20260423T064542
CREATED:20260203T195925Z
LAST-MODIFIED:20260203T195925Z
UID:10001625-1777366800-1777395600@www.nescifest.com
SUMMARY:Wings Over the Platte
DESCRIPTION:Flowing across the heart of the Great Plains\, the Platte River has long been a source of life\, movement\, and inspiration. Wings Over the Platte celebrates the landscapes\, waterways\, and wildlife that define this region through the vision of artists connected to the Platte River Valley. \nFrom sweeping prairie horizons and ever-changing skies to intimate studies of plants\, animals\, and waterways\, this juried exhibition captures the spirit of a place where nature and people have been intertwined for generations. Artwork in painting\, photography\, sculpture\, and more invites visitors to experience the river not just as scenery\, but as a living force that shapes Nebraska’s land\, history\, and community. Many works will also be available for purchase\, offering a chance to take home a piece of the river’s story. \nJoin The Stuhr Museum in honoring the connection between art and nature\, and the timeless role the Platte River plays in shaping both.
URL:https://www.nescifest.com/event/wings-over-the-platte/2026-04-28/
LOCATION:Stuhr Museum\, 3133 West Highway 34\, Grand Island\, NE\, 68801
CATEGORIES:Animals,Arts & Culture,Environment
ATTACH;FMTTYPE=image/jpeg:https://www.nescifest.com/wp-content/uploads/2026/02/stuhrUSE.jpg
END:VEVENT
BEGIN:VEVENT
DTSTART;TZID=America/Chicago:20260429T090000
DTEND;TZID=America/Chicago:20260429T170000
DTSTAMP:20260423T064542
CREATED:20260203T195925Z
LAST-MODIFIED:20260203T195925Z
UID:10001626-1777453200-1777482000@www.nescifest.com
SUMMARY:Wings Over the Platte
DESCRIPTION:Flowing across the heart of the Great Plains\, the Platte River has long been a source of life\, movement\, and inspiration. Wings Over the Platte celebrates the landscapes\, waterways\, and wildlife that define this region through the vision of artists connected to the Platte River Valley. \nFrom sweeping prairie horizons and ever-changing skies to intimate studies of plants\, animals\, and waterways\, this juried exhibition captures the spirit of a place where nature and people have been intertwined for generations. Artwork in painting\, photography\, sculpture\, and more invites visitors to experience the river not just as scenery\, but as a living force that shapes Nebraska’s land\, history\, and community. Many works will also be available for purchase\, offering a chance to take home a piece of the river’s story. \nJoin The Stuhr Museum in honoring the connection between art and nature\, and the timeless role the Platte River plays in shaping both.
URL:https://www.nescifest.com/event/wings-over-the-platte/2026-04-29/
LOCATION:Stuhr Museum\, 3133 West Highway 34\, Grand Island\, NE\, 68801
CATEGORIES:Animals,Arts & Culture,Environment
ATTACH;FMTTYPE=image/jpeg:https://www.nescifest.com/wp-content/uploads/2026/02/stuhrUSE.jpg
END:VEVENT
BEGIN:VEVENT
DTSTART;TZID=America/Chicago:20260430T090000
DTEND;TZID=America/Chicago:20260430T170000
DTSTAMP:20260423T064542
CREATED:20260203T195925Z
LAST-MODIFIED:20260203T195925Z
UID:10001627-1777539600-1777568400@www.nescifest.com
SUMMARY:Wings Over the Platte
DESCRIPTION:Flowing across the heart of the Great Plains\, the Platte River has long been a source of life\, movement\, and inspiration. Wings Over the Platte celebrates the landscapes\, waterways\, and wildlife that define this region through the vision of artists connected to the Platte River Valley. \nFrom sweeping prairie horizons and ever-changing skies to intimate studies of plants\, animals\, and waterways\, this juried exhibition captures the spirit of a place where nature and people have been intertwined for generations. Artwork in painting\, photography\, sculpture\, and more invites visitors to experience the river not just as scenery\, but as a living force that shapes Nebraska’s land\, history\, and community. Many works will also be available for purchase\, offering a chance to take home a piece of the river’s story. \nJoin The Stuhr Museum in honoring the connection between art and nature\, and the timeless role the Platte River plays in shaping both.
URL:https://www.nescifest.com/event/wings-over-the-platte/2026-04-30/
LOCATION:Stuhr Museum\, 3133 West Highway 34\, Grand Island\, NE\, 68801
CATEGORIES:Animals,Arts & Culture,Environment
ATTACH;FMTTYPE=image/jpeg:https://www.nescifest.com/wp-content/uploads/2026/02/stuhrUSE.jpg
END:VEVENT
END:VCALENDAR