BEGIN:VCALENDAR
VERSION:2.0
PRODID:-//Nebraska Science Festival - ECPv6.15.17.1//NONSGML v1.0//EN
CALSCALE:GREGORIAN
METHOD:PUBLISH
X-ORIGINAL-URL:https://www.nescifest.com
X-WR-CALDESC:Events for Nebraska Science Festival
REFRESH-INTERVAL;VALUE=DURATION:PT1H
X-Robots-Tag:noindex
X-PUBLISHED-TTL:PT1H
BEGIN:VTIMEZONE
TZID:America/Chicago
BEGIN:DAYLIGHT
TZOFFSETFROM:-0600
TZOFFSETTO:-0500
TZNAME:CDT
DTSTART:20240310T080000
END:DAYLIGHT
BEGIN:STANDARD
TZOFFSETFROM:-0500
TZOFFSETTO:-0600
TZNAME:CST
DTSTART:20241103T070000
END:STANDARD
BEGIN:DAYLIGHT
TZOFFSETFROM:-0600
TZOFFSETTO:-0500
TZNAME:CDT
DTSTART:20250309T080000
END:DAYLIGHT
BEGIN:STANDARD
TZOFFSETFROM:-0500
TZOFFSETTO:-0600
TZNAME:CST
DTSTART:20251102T070000
END:STANDARD
BEGIN:DAYLIGHT
TZOFFSETFROM:-0600
TZOFFSETTO:-0500
TZNAME:CDT
DTSTART:20260308T080000
END:DAYLIGHT
BEGIN:STANDARD
TZOFFSETFROM:-0500
TZOFFSETTO:-0600
TZNAME:CST
DTSTART:20261101T070000
END:STANDARD
END:VTIMEZONE
BEGIN:VEVENT
DTSTART;TZID=America/Chicago:20250423T190000
DTEND;TZID=America/Chicago:20250423T200000
DTSTAMP:20260423T090235
CREATED:20250418T140900Z
LAST-MODIFIED:20250418T140900Z
UID:10001592-1745434800-1745438400@www.nescifest.com
SUMMARY:Science in Space at Mercury
DESCRIPTION:Launch into Mercury on April 23 at 7pm\, to hear Anthony Galdamez\, NASA Solar System Ambassador and program manager at Kiewit Luminarium for a night of science fun. Anthony\,is a scientific astronaut candidate\, is currently researching and studying Astro-botany for future space missions. Join him for a talk on his research\, space training\, and some audience participation\, all while sipping a space themed cocktail from the master mixologists at Mercury.
URL:https://www.nescifest.com/event/science-in-space-at-mercury/
LOCATION:Mercury\, 329 S 16th St #3\, Omaha\, NE\, 68102\, United States
CATEGORIES:Astronomy
ATTACH;FMTTYPE=image/jpeg:https://www.nescifest.com/wp-content/uploads/2025/04/anthony.jpeg
END:VEVENT
BEGIN:VEVENT
DTSTART;TZID=America/Chicago:20250426T210000
DTEND;TZID=America/Chicago:20250426T210000
DTSTAMP:20260423T090235
CREATED:20250214T163616Z
LAST-MODIFIED:20250214T164017Z
UID:10001499-1745701200-1745701200@www.nescifest.com
SUMMARY:Nebraska Science Festival Star Party
DESCRIPTION:In collaboration with NE SciFest\, we are pleased to host the Nebraska Science Festival Star Party! This event is for all lovers of space science and astronomy. On Saturday\, April 26th\, Branched Oak Observatory will open its doors and train its telescopes to the skies between the hours of 9PM and Midnight. Explore the wonders of the night sky through a variety of telescopes. See the Beehive Open Cluster\, the Hercules Globular Cluster\, the Cigar Galaxy\, the Crab Nebula and so much more! \nNote: Night sky observing is dependent on local weather conditions. \n\nAdmission: $10 Adults\, $5 for children 5 to 15. Always FREE to local astronomers setting up their own telesocpe and sharing views with the public.\nNo Registration\nOpen to Everyone\nArrive Anytime Between the Times Given\nStay for the Entire Event or As Long As You Want\nNo Park Permit Required
URL:https://www.nescifest.com/event/nebraska-science-festival-star-party/
LOCATION:Branched Oak Observatory\, 14300 NW 98th St.\, Raymond\, NE\, 68428\, United States
CATEGORIES:Astronomy
ATTACH;FMTTYPE=image/jpeg:https://www.nescifest.com/wp-content/uploads/2025/02/star-party.jpg
END:VEVENT
END:VCALENDAR