BEGIN:VCALENDAR
VERSION:2.0
PRODID:-//Nebraska Science Festival - ECPv6.15.17.1//NONSGML v1.0//EN
CALSCALE:GREGORIAN
METHOD:PUBLISH
X-ORIGINAL-URL:https://www.nescifest.com
X-WR-CALDESC:Events for Nebraska Science Festival
REFRESH-INTERVAL;VALUE=DURATION:PT1H
X-Robots-Tag:noindex
X-PUBLISHED-TTL:PT1H
BEGIN:VTIMEZONE
TZID:America/Chicago
BEGIN:DAYLIGHT
TZOFFSETFROM:-0600
TZOFFSETTO:-0500
TZNAME:CDT
DTSTART:20250309T080000
END:DAYLIGHT
BEGIN:STANDARD
TZOFFSETFROM:-0500
TZOFFSETTO:-0600
TZNAME:CST
DTSTART:20251102T070000
END:STANDARD
BEGIN:DAYLIGHT
TZOFFSETFROM:-0600
TZOFFSETTO:-0500
TZNAME:CDT
DTSTART:20260308T080000
END:DAYLIGHT
BEGIN:STANDARD
TZOFFSETFROM:-0500
TZOFFSETTO:-0600
TZNAME:CST
DTSTART:20261101T070000
END:STANDARD
BEGIN:DAYLIGHT
TZOFFSETFROM:-0600
TZOFFSETTO:-0500
TZNAME:CDT
DTSTART:20270314T080000
END:DAYLIGHT
BEGIN:STANDARD
TZOFFSETFROM:-0500
TZOFFSETTO:-0600
TZNAME:CST
DTSTART:20271107T070000
END:STANDARD
END:VTIMEZONE
BEGIN:VEVENT
DTSTART;VALUE=DATE:20260401
DTEND;VALUE=DATE:20260501
DTSTAMP:20260423T012307
CREATED:20210310T200922Z
LAST-MODIFIED:20260225T164814Z
UID:10000496-1775001600-1777593599@www.nescifest.com
SUMMARY:NE SciFest Scavenger Hunt
DESCRIPTION:Let’s go outside and hunt for science! \nDownload the scavenger hunt (below) and go out and search for science. Ten quests await you – no matter where you live in Nebraska. You have all month long\, April 1-30\, to complete these tasks. Tag us on social media or email us and share your completed hunt! \nNESciFest-Scavenger-Hunt-2026 \n  \n  \nBR e Y PEu z
URL:https://www.nescifest.com/event/ne-scifest-scavenger-hunt/
LOCATION:NE
CATEGORIES:Environment,Plants,Science (general)
ATTACH;FMTTYPE=image/jpeg:https://www.nescifest.com/wp-content/uploads/2021/03/Scavenger-Hunt-2021-02.jpg
END:VEVENT
BEGIN:VEVENT
DTSTART;TZID=America/Chicago:20260417T080000
DTEND;TZID=America/Chicago:20260417T163000
DTSTAMP:20260423T012307
CREATED:20260225T222858Z
LAST-MODIFIED:20260225T222858Z
UID:10001718-1776412800-1776443400@www.nescifest.com
SUMMARY:North Platte Hatchery
DESCRIPTION:The North Platte Hatchery is open to the public and tours may be scheduled during normal working hours. Hatchery information is on display at the hatch house. \nThe North Platte Fish Hatchery opened in 1943. The facility utilizes the adjacent Nebraska Public Power District irrigation canal to feed 43 earthen ponds\, water that ultimately is returned to the canal after being used for fish production. \nThe North Platte Hatchery produces a variety of coolwater and warmwater fish species including regular production of walleye\, white bass\, blue catfish and channel catfish. On demand\, the hatchery also produces yellow perch\, black and white crappie\, wiper\, striped bass\, bluegill\, muskellunge\, tiger muskie\, smallmouth bass\, largemouth bass\, northern pike\, sauger and saugeye. North Platte hatchery staff also makes annual collections of walleye and white bass eggs and milt from regional water bodies. \nIn addition to the hatchery\, this property houses the Aquatic Conservation Facility where our team conducts mussel propagation research\, as well as other aquatic work. \nTo prevent the spread of disease and reduce stress to fish\, some areas of the facility may not be open to visitation. Contact the hatchery in advance to schedule a tour. \n 
URL:https://www.nescifest.com/event/north-platte-hatchery/2026-04-17/
LOCATION:The North Platte Fish Hatchery\, 444 E State Farm Rd.\, North Platte\, NE\, 69101\, United States
CATEGORIES:Animals,Environment
ATTACH;FMTTYPE=image/jpeg:https://www.nescifest.com/wp-content/uploads/2026/02/NorthUSEPlatte-Fish-Hatchery-599x299@2x.jpg
END:VEVENT
BEGIN:VEVENT
DTSTART;TZID=America/Chicago:20260417T090000
DTEND;TZID=America/Chicago:20260417T170000
DTSTAMP:20260423T012307
CREATED:20260203T195925Z
LAST-MODIFIED:20260203T195925Z
UID:10001616-1776416400-1776445200@www.nescifest.com
SUMMARY:Wings Over the Platte
DESCRIPTION:Flowing across the heart of the Great Plains\, the Platte River has long been a source of life\, movement\, and inspiration. Wings Over the Platte celebrates the landscapes\, waterways\, and wildlife that define this region through the vision of artists connected to the Platte River Valley. \nFrom sweeping prairie horizons and ever-changing skies to intimate studies of plants\, animals\, and waterways\, this juried exhibition captures the spirit of a place where nature and people have been intertwined for generations. Artwork in painting\, photography\, sculpture\, and more invites visitors to experience the river not just as scenery\, but as a living force that shapes Nebraska’s land\, history\, and community. Many works will also be available for purchase\, offering a chance to take home a piece of the river’s story. \nJoin The Stuhr Museum in honoring the connection between art and nature\, and the timeless role the Platte River plays in shaping both.
URL:https://www.nescifest.com/event/wings-over-the-platte/2026-04-17/
LOCATION:Stuhr Museum\, 3133 West Highway 34\, Grand Island\, NE\, 68801
CATEGORIES:Animals,Arts & Culture,Environment
ATTACH;FMTTYPE=image/jpeg:https://www.nescifest.com/wp-content/uploads/2026/02/stuhrUSE.jpg
END:VEVENT
BEGIN:VEVENT
DTSTART;TZID=America/Chicago:20260417T180000
DTEND;TZID=America/Chicago:20260417T200000
DTSTAMP:20260423T012307
CREATED:20260401T154839Z
LAST-MODIFIED:20260401T154839Z
UID:10002218-1776448800-1776456000@www.nescifest.com
SUMMARY:Missouri River Wastewater Treatment Plant Tour
DESCRIPTION:Come visit the Missouri River Wastewater Treatment Plant for a tour with Conservation Nebraska on April 17th from 6-8pm! The tour will provide an overview of the plant and highlight water conservation efforts. \nThere are no age requirements\, but adults should accompany small children. People attending the tour are required to wear closed-toed shoes. Since the majority of the tour requires walking outdoors\, please dress for all weather conditions. \nViewing most of the treatment process requires walking up stairs\, some of which are difficult for those afraid of heights. \nPlease refer to the map in the comments section for parking instructions: If the front gate is closed upon arrival\, please press the button on the call box (green circle on map) and staff will open the gate (red line). Then park in any available spot in the upper parking lot (orange rectangle). Enter through the double doors of the front office and let the secretary on duty know you are here for a tour. \nRegistration required.
URL:https://www.nescifest.com/event/missouri-river-wastewater-treatment-plant-tour/
LOCATION:Missouri River Wastewater Treatment Plant\, 5600 10th St.\, Omaha\, NE\, 68137\, United States
CATEGORIES:Environment,Science (general),Technology
ATTACH;FMTTYPE=image/jpeg:https://www.nescifest.com/wp-content/uploads/2026/04/usemww.jpg
END:VEVENT
END:VCALENDAR