BEGIN:VCALENDAR
VERSION:2.0
PRODID:-//Nebraska Science Festival - ECPv6.15.17.1//NONSGML v1.0//EN
CALSCALE:GREGORIAN
METHOD:PUBLISH
X-WR-CALNAME:Nebraska Science Festival
X-ORIGINAL-URL:https://www.nescifest.com
X-WR-CALDESC:Events for Nebraska Science Festival
REFRESH-INTERVAL;VALUE=DURATION:PT1H
X-Robots-Tag:noindex
X-PUBLISHED-TTL:PT1H
BEGIN:VTIMEZONE
TZID:America/Chicago
BEGIN:DAYLIGHT
TZOFFSETFROM:-0600
TZOFFSETTO:-0500
TZNAME:CDT
DTSTART:20230312T080000
END:DAYLIGHT
BEGIN:STANDARD
TZOFFSETFROM:-0500
TZOFFSETTO:-0600
TZNAME:CST
DTSTART:20231105T070000
END:STANDARD
BEGIN:DAYLIGHT
TZOFFSETFROM:-0600
TZOFFSETTO:-0500
TZNAME:CDT
DTSTART:20240310T080000
END:DAYLIGHT
BEGIN:STANDARD
TZOFFSETFROM:-0500
TZOFFSETTO:-0600
TZNAME:CST
DTSTART:20241103T070000
END:STANDARD
BEGIN:DAYLIGHT
TZOFFSETFROM:-0600
TZOFFSETTO:-0500
TZNAME:CDT
DTSTART:20250309T080000
END:DAYLIGHT
BEGIN:STANDARD
TZOFFSETFROM:-0500
TZOFFSETTO:-0600
TZNAME:CST
DTSTART:20251102T070000
END:STANDARD
END:VTIMEZONE
BEGIN:VEVENT
DTSTART;TZID=America/Chicago:20240422T090000
DTEND;TZID=America/Chicago:20240422T170000
DTSTAMP:20260422T101024
CREATED:20240322T152710Z
LAST-MODIFIED:20240322T152710Z
UID:10001449-1713776400-1713805200@www.nescifest.com
SUMMARY:StoryWalk®: “Dig In!”
DESCRIPTION:Take a stroll through the Lauritzen Gardens arboretum and explore all of the creepy\, crawly\, dirty\, muddy\, green\, and growing things that can be found in the garden. Following along with the story “Dig In!” by Cindy Jenson-Elliott\, your family can take part in some fun activities. StoryWalk® combines the love of reading with healthy\, fun activities that fit the theme of the story to exercise your brain and body. Included with paid admission or with garden membership.
URL:https://www.nescifest.com/event/storywalk-dig-in/2024-04-22/
LOCATION:Lauritzen Gardens\, 100 Bancroft Street\, Omaha\, NE\, 68108
CATEGORIES:Animals,Arts & Culture,Environment,Plants,Science (general)
ATTACH;FMTTYPE=image/jpeg:https://www.nescifest.com/wp-content/uploads/2024/03/1StoryWalk81.jpg
END:VEVENT
BEGIN:VEVENT
DTSTART;TZID=America/Chicago:20240423T090000
DTEND;TZID=America/Chicago:20240423T170000
DTSTAMP:20260422T101024
CREATED:20240322T152710Z
LAST-MODIFIED:20240322T152710Z
UID:10001450-1713862800-1713891600@www.nescifest.com
SUMMARY:StoryWalk®: “Dig In!”
DESCRIPTION:Take a stroll through the Lauritzen Gardens arboretum and explore all of the creepy\, crawly\, dirty\, muddy\, green\, and growing things that can be found in the garden. Following along with the story “Dig In!” by Cindy Jenson-Elliott\, your family can take part in some fun activities. StoryWalk® combines the love of reading with healthy\, fun activities that fit the theme of the story to exercise your brain and body. Included with paid admission or with garden membership.
URL:https://www.nescifest.com/event/storywalk-dig-in/2024-04-23/
LOCATION:Lauritzen Gardens\, 100 Bancroft Street\, Omaha\, NE\, 68108
CATEGORIES:Animals,Arts & Culture,Environment,Plants,Science (general)
ATTACH;FMTTYPE=image/jpeg:https://www.nescifest.com/wp-content/uploads/2024/03/1StoryWalk81.jpg
END:VEVENT
BEGIN:VEVENT
DTSTART;TZID=America/Chicago:20240423T093000
DTEND;TZID=America/Chicago:20240423T110000
DTSTAMP:20260422T101024
CREATED:20240325T152033Z
LAST-MODIFIED:20240325T152033Z
UID:10001470-1713864600-1713870000@www.nescifest.com
SUMMARY:Mudpies
DESCRIPTION:Looking for a unique setting in which to have fun with your child while learning about the natural world? \nMudpies is a structured program for children ages 3-5\,  at Fontenelle Forest\, that encourages exploration of nature and interaction between a child and their caregiver. Each week\, a natural science theme is explored through crafts\, outdoor exploration\, songs\, stories\, hikes and more! Each session will feature a different craft or activity\, along with storytime and a guided hike. Come discover the joy of sharing nature with your child! \nThis program is for children ages 3-5 accompanied by a caregiver. Registration required.
URL:https://www.nescifest.com/event/mudpies/2024-04-23/
LOCATION:Fontenelle Forest\, 1111 Bellevue Blvd. N.\, Bellevue\, NE\, 68005\, United States
CATEGORIES:Environment,Plants,Science (general)
ATTACH;FMTTYPE=image/png:https://www.nescifest.com/wp-content/uploads/2024/03/1Mudpies.png
END:VEVENT
BEGIN:VEVENT
DTSTART;TZID=America/Chicago:20240424T090000
DTEND;TZID=America/Chicago:20240424T170000
DTSTAMP:20260422T101024
CREATED:20240322T152710Z
LAST-MODIFIED:20240322T152710Z
UID:10001451-1713949200-1713978000@www.nescifest.com
SUMMARY:StoryWalk®: “Dig In!”
DESCRIPTION:Take a stroll through the Lauritzen Gardens arboretum and explore all of the creepy\, crawly\, dirty\, muddy\, green\, and growing things that can be found in the garden. Following along with the story “Dig In!” by Cindy Jenson-Elliott\, your family can take part in some fun activities. StoryWalk® combines the love of reading with healthy\, fun activities that fit the theme of the story to exercise your brain and body. Included with paid admission or with garden membership.
URL:https://www.nescifest.com/event/storywalk-dig-in/2024-04-24/
LOCATION:Lauritzen Gardens\, 100 Bancroft Street\, Omaha\, NE\, 68108
CATEGORIES:Animals,Arts & Culture,Environment,Plants,Science (general)
ATTACH;FMTTYPE=image/jpeg:https://www.nescifest.com/wp-content/uploads/2024/03/1StoryWalk81.jpg
END:VEVENT
BEGIN:VEVENT
DTSTART;TZID=America/Chicago:20240425T090000
DTEND;TZID=America/Chicago:20240425T170000
DTSTAMP:20260422T101024
CREATED:20240322T152710Z
LAST-MODIFIED:20240322T152710Z
UID:10001452-1714035600-1714064400@www.nescifest.com
SUMMARY:StoryWalk®: “Dig In!”
DESCRIPTION:Take a stroll through the Lauritzen Gardens arboretum and explore all of the creepy\, crawly\, dirty\, muddy\, green\, and growing things that can be found in the garden. Following along with the story “Dig In!” by Cindy Jenson-Elliott\, your family can take part in some fun activities. StoryWalk® combines the love of reading with healthy\, fun activities that fit the theme of the story to exercise your brain and body. Included with paid admission or with garden membership.
URL:https://www.nescifest.com/event/storywalk-dig-in/2024-04-25/
LOCATION:Lauritzen Gardens\, 100 Bancroft Street\, Omaha\, NE\, 68108
CATEGORIES:Animals,Arts & Culture,Environment,Plants,Science (general)
ATTACH;FMTTYPE=image/jpeg:https://www.nescifest.com/wp-content/uploads/2024/03/1StoryWalk81.jpg
END:VEVENT
BEGIN:VEVENT
DTSTART;TZID=America/Chicago:20240425T093000
DTEND;TZID=America/Chicago:20240425T110000
DTSTAMP:20260422T101024
CREATED:20240325T152033Z
LAST-MODIFIED:20240325T152033Z
UID:10001471-1714037400-1714042800@www.nescifest.com
SUMMARY:Mudpies
DESCRIPTION:Looking for a unique setting in which to have fun with your child while learning about the natural world? \nMudpies is a structured program for children ages 3-5\,  at Fontenelle Forest\, that encourages exploration of nature and interaction between a child and their caregiver. Each week\, a natural science theme is explored through crafts\, outdoor exploration\, songs\, stories\, hikes and more! Each session will feature a different craft or activity\, along with storytime and a guided hike. Come discover the joy of sharing nature with your child! \nThis program is for children ages 3-5 accompanied by a caregiver. Registration required.
URL:https://www.nescifest.com/event/mudpies/2024-04-25/
LOCATION:Fontenelle Forest\, 1111 Bellevue Blvd. N.\, Bellevue\, NE\, 68005\, United States
CATEGORIES:Environment,Plants,Science (general)
ATTACH;FMTTYPE=image/png:https://www.nescifest.com/wp-content/uploads/2024/03/1Mudpies.png
END:VEVENT
BEGIN:VEVENT
DTSTART;TZID=America/Chicago:20240426T090000
DTEND;TZID=America/Chicago:20240426T170000
DTSTAMP:20260422T101024
CREATED:20240322T153437Z
LAST-MODIFIED:20240322T153555Z
UID:10001455-1714122000-1714150800@www.nescifest.com
SUMMARY:Arbor Day TREE Giveaway
DESCRIPTION:Celebrate Arbor Day at Lauritzen Gardens by taking a walk through the arboretum or the woodland walk. The first 100 households will receive a FREE tree seedling.
URL:https://www.nescifest.com/event/arbor-day-tree-giveaway-2/
LOCATION:Lauritzen Gardens\, 100 Bancroft Street\, Omaha\, NE\, 68108
CATEGORIES:Environment,Plants
ATTACH;FMTTYPE=image/jpeg:https://www.nescifest.com/wp-content/uploads/2024/03/1ArborDay-Lauritzen99.jpg
END:VEVENT
BEGIN:VEVENT
DTSTART;TZID=America/Chicago:20240426T090000
DTEND;TZID=America/Chicago:20240426T170000
DTSTAMP:20260422T101024
CREATED:20240322T154207Z
LAST-MODIFIED:20240403T154055Z
UID:10001456-1714122000-1714150800@www.nescifest.com
SUMMARY:StoryWalk®: “Feathers for Lunch”
DESCRIPTION:Take a stroll through the Lauritzen Gardens arboretum and read about the adventures and escapades of an escaped house cat who encounters twelve common birds in the backyard. Following along with the story “Feathers for Lunch” by Lois Ehlert\, your family can take part in some fun activities. StoryWalk® combines the love of reading with healthy\, fun activities that fit the theme of the story to exercise your brain and body. Included with paid admission or with garden membership.
URL:https://www.nescifest.com/event/storywalk-feathers-for-lunch/2024-04-26/
LOCATION:Lauritzen Gardens\, 100 Bancroft Street\, Omaha\, NE\, 68108
CATEGORIES:Animals,Environment
ATTACH;FMTTYPE=image/jpeg:https://www.nescifest.com/wp-content/uploads/2024/03/1feathers.jpg
END:VEVENT
BEGIN:VEVENT
DTSTART;TZID=America/Chicago:20240427T090000
DTEND;TZID=America/Chicago:20240427T170000
DTSTAMP:20260422T101024
CREATED:20240322T154207Z
LAST-MODIFIED:20240403T154055Z
UID:10001457-1714208400-1714237200@www.nescifest.com
SUMMARY:StoryWalk®: “Feathers for Lunch”
DESCRIPTION:Take a stroll through the Lauritzen Gardens arboretum and read about the adventures and escapades of an escaped house cat who encounters twelve common birds in the backyard. Following along with the story “Feathers for Lunch” by Lois Ehlert\, your family can take part in some fun activities. StoryWalk® combines the love of reading with healthy\, fun activities that fit the theme of the story to exercise your brain and body. Included with paid admission or with garden membership.
URL:https://www.nescifest.com/event/storywalk-feathers-for-lunch/2024-04-27/
LOCATION:Lauritzen Gardens\, 100 Bancroft Street\, Omaha\, NE\, 68108
CATEGORIES:Animals,Environment
ATTACH;FMTTYPE=image/jpeg:https://www.nescifest.com/wp-content/uploads/2024/03/1feathers.jpg
END:VEVENT
BEGIN:VEVENT
DTSTART;TZID=America/Chicago:20240427T110000
DTEND;TZID=America/Chicago:20240427T180000
DTSTAMP:20260422T101024
CREATED:20240417T173319Z
LAST-MODIFIED:20240417T173319Z
UID:10001494-1714215600-1714240800@www.nescifest.com
SUMMARY:Earth Day Omaha
DESCRIPTION:One of America’s oldest\, continually running environmental events\, Earth Day Omaha will celebrate its 35th consecutive year on Saturday\, April 27th\, 2024. This year’s event will build on a long history of success as the region’s premier environmental event\, reaching a local consumer base most interested in the environment and sustainability. Hosted in the center of the city at Elmwood Park\, the event is free to the public and provides entertainment for all ages. \nEarth Day Omaha is a longstanding spring tradition featuring over 100 green exhibitors\, a multitude of family-friendly activities\, hands-on demonstrations\, educational displays\, food & drink\, and live music from top local bands.
URL:https://www.nescifest.com/event/earth-day-omaha-2/
LOCATION:Elmwood Park\, 6232 Pacific Street\, Omaha\, NE\, 68106
CATEGORIES:Environment
ATTACH;FMTTYPE=image/png:https://www.nescifest.com/wp-content/uploads/2024/04/1earth-day-omaha.png
END:VEVENT
BEGIN:VEVENT
DTSTART;TZID=America/Chicago:20240427T140000
DTEND;TZID=America/Chicago:20240427T160000
DTSTAMP:20260422T101024
CREATED:20240325T162015Z
LAST-MODIFIED:20240325T162015Z
UID:10001480-1714226400-1714233600@www.nescifest.com
SUMMARY:HABITAT HIKE
DESCRIPTION:Explore Nebraska’s prairies\, wetlands and forests at Fontenelle Forest’s Habitat Hikes! Join our naturalist educators on a guided hike through these different habitats and learn about each of these unique ecosystems! \nThe April Hike will be held on April 27 at the Nature Center. \nThe guided hike will be from 2:00-4:00 PM\, traversing easy to moderate terrain.
URL:https://www.nescifest.com/event/habitat-hike/
LOCATION:Fontenelle Forest\, 1111 Bellevue Blvd. N.\, Bellevue\, NE\, 68005\, United States
CATEGORIES:Environment,Plants,Weather
ATTACH;FMTTYPE=image/png:https://www.nescifest.com/wp-content/uploads/2024/03/1Habitat-Hike-2.png
END:VEVENT
BEGIN:VEVENT
DTSTART;TZID=America/Chicago:20240428T090000
DTEND;TZID=America/Chicago:20240428T170000
DTSTAMP:20260422T101024
CREATED:20240322T154207Z
LAST-MODIFIED:20240403T154055Z
UID:10001458-1714294800-1714323600@www.nescifest.com
SUMMARY:StoryWalk®: “Feathers for Lunch”
DESCRIPTION:Take a stroll through the Lauritzen Gardens arboretum and read about the adventures and escapades of an escaped house cat who encounters twelve common birds in the backyard. Following along with the story “Feathers for Lunch” by Lois Ehlert\, your family can take part in some fun activities. StoryWalk® combines the love of reading with healthy\, fun activities that fit the theme of the story to exercise your brain and body. Included with paid admission or with garden membership.
URL:https://www.nescifest.com/event/storywalk-feathers-for-lunch/2024-04-28/
LOCATION:Lauritzen Gardens\, 100 Bancroft Street\, Omaha\, NE\, 68108
CATEGORIES:Animals,Environment
ATTACH;FMTTYPE=image/jpeg:https://www.nescifest.com/wp-content/uploads/2024/03/1feathers.jpg
END:VEVENT
BEGIN:VEVENT
DTSTART;TZID=America/Chicago:20240428T120000
DTEND;TZID=America/Chicago:20240428T150000
DTSTAMP:20260422T101024
CREATED:20240325T160633Z
LAST-MODIFIED:20240325T160633Z
UID:10001478-1714305600-1714316400@www.nescifest.com
SUMMARY:City Nature Challenge 2024 at Fontenelle Forest
DESCRIPTION:Come search out a variety of wildlife\, plants\, and fungi for City Nature Challenge 2024 at Fontenelle Forest! \nWe will have various information stations set up around the Nature Center’s Dennis plaza with knowledgeable volunteers ready to inform you about the plants and animals you may discover during your trip. There will also be a raptor specialist on hand to educate visitors about these awesome birds of prey. \nCity Nature Challenge 2024 is organized by Omaha’s Henry Doorly Zoo and Aquarium. \nSHARE YOUR FINDINGS!\nDownload the iNaturalist app to sign up and get involved with the City Nature Challenge 2024 | Omaha-Metro Area.
URL:https://www.nescifest.com/event/city-nature-challenge-2024-at-fontenelle-forest/
LOCATION:Fontenelle Forest\, 1111 Bellevue Blvd. N.\, Bellevue\, NE\, 68005\, United States
CATEGORIES:Animals,Environment,Plants,Science (general)
ATTACH;FMTTYPE=image/png:https://www.nescifest.com/wp-content/uploads/2023/03/City-Nature-Challenge-2023-900x1200-1.png
END:VEVENT
BEGIN:VEVENT
DTSTART;TZID=America/Chicago:20240428T120000
DTEND;TZID=America/Chicago:20240428T150000
DTSTAMP:20260422T101024
CREATED:20240417T173942Z
LAST-MODIFIED:20240417T173942Z
UID:10001495-1714305600-1714316400@www.nescifest.com
SUMMARY:Sunday with a Scientist
DESCRIPTION:Meet a different scientist each month to learn about topics and careers in science. Scientists will share what they study in a fun\, informal way through hands-on activities\, demonstrations\, and conversation. \nJoin Morrill Hall on Sunday\, April 28 from 12-3pm for Nature in Lincoln’s Backyard with Pioneers Park Nature Center. \nFor almost 100 years\, Pioneers Park has been Lincoln’s “backyard” and every year thousands of people visit the Park’s Nature Center to enjoy natural landscapes\, beautiful gardens\, and recreational opportunities. However\, nature can also be found and appreciated much closer to home! Spend the afternoon with the Nature Center’s Outdoor Educators to learn how to observe\, identify\, and share the natural objects and phenomena that are always nearby. Come ready to observe with all of your senses and leave better equipped to appreciate nature wherever it is found. \nIncluded with admission; FREE for members \n 
URL:https://www.nescifest.com/event/sunday-with-a-scientist/
LOCATION:University of Nebraska State Museum – Morrill Hall\, 645 North 14th Street\, Lincoln\, Nebraska\, 68588
CATEGORIES:Environment,Plants,Science (general)
ATTACH;FMTTYPE=image/jpeg:https://www.nescifest.com/wp-content/uploads/2024/04/1SWAS_april2024_w8000.jpg
END:VEVENT
END:VCALENDAR