BEGIN:VCALENDAR
VERSION:2.0
PRODID:-//Nebraska Science Festival - ECPv6.15.17.1//NONSGML v1.0//EN
CALSCALE:GREGORIAN
METHOD:PUBLISH
X-ORIGINAL-URL:https://www.nescifest.com
X-WR-CALDESC:Events for Nebraska Science Festival
REFRESH-INTERVAL;VALUE=DURATION:PT1H
X-Robots-Tag:noindex
X-PUBLISHED-TTL:PT1H
BEGIN:VTIMEZONE
TZID:America/Chicago
BEGIN:DAYLIGHT
TZOFFSETFROM:-0600
TZOFFSETTO:-0500
TZNAME:CDT
DTSTART:20200308T080000
END:DAYLIGHT
BEGIN:STANDARD
TZOFFSETFROM:-0500
TZOFFSETTO:-0600
TZNAME:CST
DTSTART:20201101T070000
END:STANDARD
BEGIN:DAYLIGHT
TZOFFSETFROM:-0600
TZOFFSETTO:-0500
TZNAME:CDT
DTSTART:20210314T080000
END:DAYLIGHT
BEGIN:STANDARD
TZOFFSETFROM:-0500
TZOFFSETTO:-0600
TZNAME:CST
DTSTART:20211107T070000
END:STANDARD
BEGIN:DAYLIGHT
TZOFFSETFROM:-0600
TZOFFSETTO:-0500
TZNAME:CDT
DTSTART:20220313T080000
END:DAYLIGHT
BEGIN:STANDARD
TZOFFSETFROM:-0500
TZOFFSETTO:-0600
TZNAME:CST
DTSTART:20221106T070000
END:STANDARD
END:VTIMEZONE
BEGIN:VEVENT
DTSTART;TZID=America/Chicago:20210401T120000
DTEND;TZID=America/Chicago:20210401T130000
DTSTAMP:20260423T073021
CREATED:20210309T182127Z
LAST-MODIFIED:20210309T182846Z
UID:10000467-1617278400-1617282000@www.nescifest.com
SUMMARY:Plant Talks: My Favorite Herbs
DESCRIPTION:Join Bob Henrickson\, Assistant Director of the Nebraska Statewide Arboretum as he talks about his favorite herbs.
URL:https://www.nescifest.com/event/plant-talks-my-favorite-herbs/
LOCATION:Nebraska Statewide Arboretum\, 102 Keim Hall\, Lincoln\, Nebraska\, 68583
CATEGORIES:Food & Drink,Plants
ATTACH;FMTTYPE=image/jpeg:https://www.nescifest.com/wp-content/uploads/2021/03/plant-talks.jpgUSE.jpg
END:VEVENT
BEGIN:VEVENT
DTSTART;TZID=America/Chicago:20210410T100000
DTEND;TZID=America/Chicago:20210410T120000
DTSTAMP:20260423T073021
CREATED:20210311T212925Z
LAST-MODIFIED:20210311T212925Z
UID:10000514-1618048800-1618056000@www.nescifest.com
SUMMARY:Virtual Learning Series: Vegetable Garden Basics
DESCRIPTION:Join the GROBigRed team for our virtual learning series on vegetable garden basics where we will cover two topics\, via Zoom. The next session is Saturday\, April 10\, starting at 10am CT. Come prepared to learn and to ask questions – our experts will be standing by to answer your burning vegetable garden questions. Sessions are free but you must register. \n  \nFull Schedule Below: \n10:00-11:00am: Container Vegetable Gardening\nPanelist: John Porter \n11:00am-12:00pm: Raised Beds\nPanelist: Elizabeth Exstrom
URL:https://www.nescifest.com/event/virtual-learning-series-vegetable-garden-basics/
CATEGORIES:Environment,Food & Drink,Plants
ATTACH;FMTTYPE=image/jpeg:https://www.nescifest.com/wp-content/uploads/2021/03/gardengobigred.jpgUSE.jpg
END:VEVENT
BEGIN:VEVENT
DTSTART;TZID=America/Chicago:20210428T180000
DTEND;TZID=America/Chicago:20210428T193000
DTSTAMP:20260423T073021
CREATED:20210309T175856Z
LAST-MODIFIED:20210309T175856Z
UID:10000465-1619632800-1619638200@www.nescifest.com
SUMMARY:Preparing a New Garden Site
DESCRIPTION:So\, you’ve decided to join the growing craze and start a garden! Join City Sprouts’ Aaron French and The Big Garden’s Kay Carlson to learn the ins and outs of taking your grass lawn to a productive and invigorating garden space. We’ll go over how to select a good site for your garden\, various environmental concerns\, and how to best prepare your soil to welcome fruits\, vegetables\, and beautiful flowers!  \nFree. Registration required.
URL:https://www.nescifest.com/event/preparing-a-new-garden-site/
LOCATION:City Sprouts\, 4002 Seward Street\, Omaha\, NE\, 68111\, United States
CATEGORIES:Environment,Food & Drink,Plants
ATTACH;FMTTYPE=image/jpeg:https://www.nescifest.com/wp-content/uploads/2021/03/garden.jpgkb_.jpg
END:VEVENT
END:VCALENDAR