BEGIN:VCALENDAR
VERSION:2.0
PRODID:-//Nebraska Science Festival - ECPv6.15.17.1//NONSGML v1.0//EN
CALSCALE:GREGORIAN
METHOD:PUBLISH
X-WR-CALNAME:Nebraska Science Festival
X-ORIGINAL-URL:https://www.nescifest.com
X-WR-CALDESC:Events for Nebraska Science Festival
REFRESH-INTERVAL;VALUE=DURATION:PT1H
X-Robots-Tag:noindex
X-PUBLISHED-TTL:PT1H
BEGIN:VTIMEZONE
TZID:America/Chicago
BEGIN:DAYLIGHT
TZOFFSETFROM:-0600
TZOFFSETTO:-0500
TZNAME:CDT
DTSTART:20230312T080000
END:DAYLIGHT
BEGIN:STANDARD
TZOFFSETFROM:-0500
TZOFFSETTO:-0600
TZNAME:CST
DTSTART:20231105T070000
END:STANDARD
BEGIN:DAYLIGHT
TZOFFSETFROM:-0600
TZOFFSETTO:-0500
TZNAME:CDT
DTSTART:20240310T080000
END:DAYLIGHT
BEGIN:STANDARD
TZOFFSETFROM:-0500
TZOFFSETTO:-0600
TZNAME:CST
DTSTART:20241103T070000
END:STANDARD
BEGIN:DAYLIGHT
TZOFFSETFROM:-0600
TZOFFSETTO:-0500
TZNAME:CDT
DTSTART:20250309T080000
END:DAYLIGHT
BEGIN:STANDARD
TZOFFSETFROM:-0500
TZOFFSETTO:-0600
TZNAME:CST
DTSTART:20251102T070000
END:STANDARD
END:VTIMEZONE
BEGIN:VEVENT
DTSTART;TZID=America/Chicago:20240407T130000
DTEND;TZID=America/Chicago:20240407T140000
DTSTAMP:20260419T201448
CREATED:20230203T204019Z
LAST-MODIFIED:20240206T171851Z
UID:10000610-1712494800-1712498400@www.nescifest.com
SUMMARY:Science Sunday
DESCRIPTION:Join the Nebraska Science Festival for Science Sunday from 1-2pm in April at the Omaha RiverFront.  This is a free family friendly hour for you to learn about nature\, animals\, medicine and more with hands-on science activities (while supplies last). \nScience Sunday Activities: \n\nApril 7 – Milk the cow & homemade butter \n\n\nApril 14 – Bouncy Balls \n\n\nApril 21 – Seed Bombs \n\n\nApril 28 – Nature Scavenger Hunt \n\n 
URL:https://www.nescifest.com/event/science-sunday/2024-04-07/
LOCATION:Omaha RiverFront\, 1001 Douglas Street\, Omaha\, NE\, 68102\, United States
CATEGORIES:Animals,Environment,Food & Drink,Health & Medicine,Plants,Science (general),Technology
ATTACH;FMTTYPE=image/jpeg:https://www.nescifest.com/wp-content/uploads/2023/02/webScience_Sunday_2023.jpg
END:VEVENT
END:VCALENDAR