BEGIN:VCALENDAR
VERSION:2.0
PRODID:-//Nebraska Science Festival - ECPv6.15.17.1//NONSGML v1.0//EN
CALSCALE:GREGORIAN
METHOD:PUBLISH
X-WR-CALNAME:Nebraska Science Festival
X-ORIGINAL-URL:https://www.nescifest.com
X-WR-CALDESC:Events for Nebraska Science Festival
REFRESH-INTERVAL;VALUE=DURATION:PT1H
X-Robots-Tag:noindex
X-PUBLISHED-TTL:PT1H
BEGIN:VTIMEZONE
TZID:America/Chicago
BEGIN:DAYLIGHT
TZOFFSETFROM:-0600
TZOFFSETTO:-0500
TZNAME:CDT
DTSTART:20250309T080000
END:DAYLIGHT
BEGIN:STANDARD
TZOFFSETFROM:-0500
TZOFFSETTO:-0600
TZNAME:CST
DTSTART:20251102T070000
END:STANDARD
BEGIN:DAYLIGHT
TZOFFSETFROM:-0600
TZOFFSETTO:-0500
TZNAME:CDT
DTSTART:20260308T080000
END:DAYLIGHT
BEGIN:STANDARD
TZOFFSETFROM:-0500
TZOFFSETTO:-0600
TZNAME:CST
DTSTART:20261101T070000
END:STANDARD
BEGIN:DAYLIGHT
TZOFFSETFROM:-0600
TZOFFSETTO:-0500
TZNAME:CDT
DTSTART:20270314T080000
END:DAYLIGHT
BEGIN:STANDARD
TZOFFSETFROM:-0500
TZOFFSETTO:-0600
TZNAME:CST
DTSTART:20271107T070000
END:STANDARD
END:VTIMEZONE
BEGIN:VEVENT
DTSTART;VALUE=DATE:20260401
DTEND;VALUE=DATE:20260501
DTSTAMP:20260421T141858
CREATED:20210310T200922Z
LAST-MODIFIED:20260225T164814Z
UID:10000496-1775001600-1777593599@www.nescifest.com
SUMMARY:NE SciFest Scavenger Hunt
DESCRIPTION:Let’s go outside and hunt for science! \nDownload the scavenger hunt (below) and go out and search for science. Ten quests await you – no matter where you live in Nebraska. You have all month long\, April 1-30\, to complete these tasks. Tag us on social media or email us and share your completed hunt! \nNESciFest-Scavenger-Hunt-2026 \n  \n 
URL:https://www.nescifest.com/event/ne-scifest-scavenger-hunt/
LOCATION:NE
CATEGORIES:Environment,Plants,Science (general)
ATTACH;FMTTYPE=image/jpeg:https://www.nescifest.com/wp-content/uploads/2021/03/Scavenger-Hunt-2021-02.jpg
END:VEVENT
BEGIN:VEVENT
DTSTART;TZID=America/Chicago:20260409T150000
DTEND;TZID=America/Chicago:20260409T160000
DTSTAMP:20260421T141858
CREATED:20260304T180636Z
LAST-MODIFIED:20260304T180638Z
UID:10001741-1775746800-1775750400@www.nescifest.com
SUMMARY:Science of…Ferns
DESCRIPTION:Ferns may seem like quiet\, leafy plants\, but their life cycle and adaptations are full of scientific wonder. This virtual program explores the different types of ferns found in Nebraska\, how they reproduce through spores instead of seeds\, and the roles they play in local ecosystems. You’ll learn how ferns survive in diverse habitats\, their fascinating history dating back millions of years\, and tips for spotting them in the wild.\n\nThis is a free virtual program\, however\, registration is required to attend. Please use this link to register: https://outdoornebraska.zoom.us/…/FyXCjT4cRaG-aQIOG7B9uw\n\nQuestions? Email monica.macoubrie@nebraska.gov\, or visit the Nebraska Game and Parks Outdoor Calendar.
URL:https://www.nescifest.com/event/science-offerns/
LOCATION:NE
CATEGORIES:Plants
ATTACH;FMTTYPE=image/jpeg:https://www.nescifest.com/wp-content/uploads/2026/03/useferns.jpg
END:VEVENT
BEGIN:VEVENT
DTSTART;TZID=America/Chicago:20260409T180000
DTEND;TZID=America/Chicago:20260409T190000
DTSTAMP:20260421T141858
CREATED:20260316T155017Z
LAST-MODIFIED:20260316T155017Z
UID:10002199-1775757600-1775761200@www.nescifest.com
SUMMARY:Shells to Shuttles
DESCRIPTION:Explore biomimicry and learn how humans take design inspiration from nature. With assistance from our partners from Nebraska Wildlife Rehab\, use learned strategies to design space capsules and safely land an “astronaut.” Teams will get hands-on with engineering challenges and meet a live animal ambassador to see nature’s tricks up close! \nThis is a free event for kids ages 6-12. Registration is required. \nPlease call 402-444-4848 to register. Space is limited.
URL:https://www.nescifest.com/event/shells-to-shuttles/
LOCATION:Millard Branch\, 13214 Westwood Ln.\, Omaha\, NE\, 68144\, United States
CATEGORIES:Animals,Astronomy,Environment,Plants,Science (general)
ATTACH;FMTTYPE=image/jpeg:https://www.nescifest.com/wp-content/uploads/2026/03/useopl.jpg
END:VEVENT
END:VCALENDAR