BEGIN:VCALENDAR
VERSION:2.0
PRODID:-//Nebraska Science Festival - ECPv6.15.17.1//NONSGML v1.0//EN
CALSCALE:GREGORIAN
METHOD:PUBLISH
X-ORIGINAL-URL:https://www.nescifest.com
X-WR-CALDESC:Events for Nebraska Science Festival
REFRESH-INTERVAL;VALUE=DURATION:PT1H
X-Robots-Tag:noindex
X-PUBLISHED-TTL:PT1H
BEGIN:VTIMEZONE
TZID:America/Chicago
BEGIN:DAYLIGHT
TZOFFSETFROM:-0600
TZOFFSETTO:-0500
TZNAME:CDT
DTSTART:20250309T080000
END:DAYLIGHT
BEGIN:STANDARD
TZOFFSETFROM:-0500
TZOFFSETTO:-0600
TZNAME:CST
DTSTART:20251102T070000
END:STANDARD
BEGIN:DAYLIGHT
TZOFFSETFROM:-0600
TZOFFSETTO:-0500
TZNAME:CDT
DTSTART:20260308T080000
END:DAYLIGHT
BEGIN:STANDARD
TZOFFSETFROM:-0500
TZOFFSETTO:-0600
TZNAME:CST
DTSTART:20261101T070000
END:STANDARD
BEGIN:DAYLIGHT
TZOFFSETFROM:-0600
TZOFFSETTO:-0500
TZNAME:CDT
DTSTART:20270314T080000
END:DAYLIGHT
BEGIN:STANDARD
TZOFFSETFROM:-0500
TZOFFSETTO:-0600
TZNAME:CST
DTSTART:20271107T070000
END:STANDARD
END:VTIMEZONE
BEGIN:VEVENT
DTSTART;VALUE=DATE:20260424
DTEND;VALUE=DATE:20260501
DTSTAMP:20260421T211430
CREATED:20260304T181209Z
LAST-MODIFIED:20260319T184500Z
UID:10001742-1776988800-1777593599@www.nescifest.com
SUMMARY:City Nature Challenge Lincoln-Lancaster
DESCRIPTION:There is nature all around us! Knowing what species are in our city and where they are helps us study and protect them. The ONLY way to do that is by all of us – scientists\, land managers\, and the community – working together to find and document the nature in our area. \nBy participating in the City Nature Challenge\, not only do you learn more about your local nature\, but you can also make your community a better place – for you and other species. \nIf you live in Lincoln-Lancaster County\, you can join cities from around the world in documenting the wildlife that calls our urban environments home during the annual City Nature Challenge! \nMake observations to iNaturalist- April 24th-27th \nHelp us ID observations on iNaturalist- April 28th-May 13th \nJ JMLNNqWcSqRWsuyZk XQUo
URL:https://www.nescifest.com/event/city-nature-challenge-lincoln-lancaster/
LOCATION:Lancaster County\, Lincoln\, NE\, United States
CATEGORIES:Animals,Environment,Plants,Science (general)
ATTACH;FMTTYPE=image/jpeg:https://www.nescifest.com/wp-content/uploads/2026/03/CuseNC-Lincoln-Lancaster-County.jpg
END:VEVENT
BEGIN:VEVENT
DTSTART;TZID=America/Chicago:20260424T170000
DTEND;TZID=America/Chicago:20260424T200000
DTSTAMP:20260421T211430
CREATED:20260421T191058Z
LAST-MODIFIED:20260421T191058Z
UID:10002253-1777050000-1777060800@www.nescifest.com
SUMMARY:2026 Northeast Nebraska Extension Master Gardener Plant Fair and Market Vendors
DESCRIPTION:Held at Northeast Community College\, Chuck Pohlman Ag Complex is the 2026 Northeast Extension Master Gardener Plant Fair and Market Vendors\, back for its 32nd year! \nEducational speakers will be present Friday and Saturday with proceeds from the fair helping to support educational speakers and horticulture scholarships to Northeast Community College. \nPlus\, stop by the Ask the Master Gardener booth\, where a master gardener will answer all your questions! \nE S  TzvzI sFpUNIU
URL:https://www.nescifest.com/event/2026-northeast-nebraska-extension-master-gardener-plant-fair-and-market-vendors/2026-04-24/
LOCATION:Northeast Community College Agriculture Complex\, 2301 E Benjamin Ave\, Norfolk\, NE\, 68701\, United States
CATEGORIES:Plants
ATTACH;FMTTYPE=image/jpeg:https://www.nescifest.com/wp-content/uploads/2026/04/pluseant.jpg
END:VEVENT
BEGIN:VEVENT
DTSTART;TZID=America/Chicago:20260425T090000
DTEND;TZID=America/Chicago:20260425T150000
DTSTAMP:20260421T211430
CREATED:20260421T191058Z
LAST-MODIFIED:20260421T191058Z
UID:10002254-1777107600-1777129200@www.nescifest.com
SUMMARY:2026 Northeast Nebraska Extension Master Gardener Plant Fair and Market Vendors
DESCRIPTION:Held at Northeast Community College\, Chuck Pohlman Ag Complex is the 2026 Northeast Extension Master Gardener Plant Fair and Market Vendors\, back for its 32nd year! \nEducational speakers will be present Friday and Saturday with proceeds from the fair helping to support educational speakers and horticulture scholarships to Northeast Community College. \nPlus\, stop by the Ask the Master Gardener booth\, where a master gardener will answer all your questions!
URL:https://www.nescifest.com/event/2026-northeast-nebraska-extension-master-gardener-plant-fair-and-market-vendors/2026-04-25/
LOCATION:Northeast Community College Agriculture Complex\, 2301 E Benjamin Ave\, Norfolk\, NE\, 68701\, United States
CATEGORIES:Plants
ATTACH;FMTTYPE=image/jpeg:https://www.nescifest.com/wp-content/uploads/2026/04/pluseant.jpg
END:VEVENT
BEGIN:VEVENT
DTSTART;TZID=America/Chicago:20260426T130000
DTEND;TZID=America/Chicago:20260426T140000
DTSTAMP:20260421T211430
CREATED:20260123T161933Z
LAST-MODIFIED:20260225T162843Z
UID:10001594-1777208400-1777212000@www.nescifest.com
SUMMARY:Science Sunday
DESCRIPTION:Join the Nebraska Science Festival for Science Sunday from 1-2pm in April at the Omaha RiverFront by the slides.  This is a free family friendly hour for you to learn about nature\, astronomy\, chemistry\, medicine and more with hands-on science activities (while supplies last). \nScience Sunday Activities: \n\nApril 12 – Pi Bracelet Making  \n\n\nApril 19 – Constellation Making \n\n\nApril 26 – Seed balls (please note we will be moving to the Lewis & Clark Landing for the Earth Day celebration on this day)  \n\n  \nHnq lcp a  J XF  cAXIWqa
URL:https://www.nescifest.com/event/science-sunday-3-2/2026-04-26/
LOCATION:Omaha RiverFront\, 1001 Douglas Street\, Omaha\, NE\, 68102\, United States
CATEGORIES:Animals,Environment,Food & Drink,Health & Medicine,Plants,Science (general),Technology
ATTACH;FMTTYPE=image/jpeg:https://www.nescifest.com/wp-content/uploads/2023/02/webScience_Sunday_2023.jpg
END:VEVENT
END:VCALENDAR