BEGIN:VCALENDAR
VERSION:2.0
PRODID:-//Nebraska Science Festival - ECPv6.15.17.1//NONSGML v1.0//EN
CALSCALE:GREGORIAN
METHOD:PUBLISH
X-WR-CALNAME:Nebraska Science Festival
X-ORIGINAL-URL:https://www.nescifest.com
X-WR-CALDESC:Events for Nebraska Science Festival
REFRESH-INTERVAL;VALUE=DURATION:PT1H
X-Robots-Tag:noindex
X-PUBLISHED-TTL:PT1H
BEGIN:VTIMEZONE
TZID:America/Chicago
BEGIN:DAYLIGHT
TZOFFSETFROM:-0600
TZOFFSETTO:-0500
TZNAME:CDT
DTSTART:20210314T080000
END:DAYLIGHT
BEGIN:STANDARD
TZOFFSETFROM:-0500
TZOFFSETTO:-0600
TZNAME:CST
DTSTART:20211107T070000
END:STANDARD
BEGIN:DAYLIGHT
TZOFFSETFROM:-0600
TZOFFSETTO:-0500
TZNAME:CDT
DTSTART:20220313T080000
END:DAYLIGHT
BEGIN:STANDARD
TZOFFSETFROM:-0500
TZOFFSETTO:-0600
TZNAME:CST
DTSTART:20221106T070000
END:STANDARD
BEGIN:DAYLIGHT
TZOFFSETFROM:-0600
TZOFFSETTO:-0500
TZNAME:CDT
DTSTART:20230312T080000
END:DAYLIGHT
BEGIN:STANDARD
TZOFFSETFROM:-0500
TZOFFSETTO:-0600
TZNAME:CST
DTSTART:20231105T070000
END:STANDARD
END:VTIMEZONE
BEGIN:VEVENT
DTSTART;VALUE=DATE:20220401
DTEND;VALUE=DATE:20220501
DTSTAMP:20260419T211726
CREATED:20210304T213528Z
LAST-MODIFIED:20220303T182357Z
UID:10000459-1648771200-1651363199@www.nescifest.com
SUMMARY:NE SciFest Art Contest
DESCRIPTION:Open to all ages\, we want you to create (draw\, paint\, glue\, sculpt) artwork that reflects ocean life and be entered to win an NE SciFest swag package. \nThree winners will receive a swag bag of NE SciFest goodies. \nSend a clear photo of your creation to nescifest@gmail.com by April 30 to be entered to win a prize. All art will be showcased on the festival social pages in May. \n 
URL:https://www.nescifest.com/event/ne-scifest-art-contest/
LOCATION:NE
CATEGORIES:Animals,Arts & Culture,Environment,Plants,Science (general)
ATTACH;FMTTYPE=image/jpeg:https://www.nescifest.com/wp-content/uploads/2021/03/art-contest-2022.jpeg
END:VEVENT
BEGIN:VEVENT
DTSTART;TZID=America/Chicago:20220419T190000
DTEND;TZID=America/Chicago:20220419T200000
DTSTAMP:20260419T211726
CREATED:20220322T224814Z
LAST-MODIFIED:20220322T224814Z
UID:10000444-1650394800-1650398400@www.nescifest.com
SUMMARY:Nebraska Nature Nerd Night: Fantastic Fungi
DESCRIPTION:Join us as we dive into the world of fungi\, the organism so important it helps our world go round. We’ll hear from experts on what fun fungi can be found in Nebraska\, and surprising reasons we should add fungi on our daily gratitude list. \n\nThis is a FREE event\, but does require registration: Register Here \nRemember- when registering you can submit your questions for our experts and\, we’ll do our best to get those questions answered\, and more\, on the night of the event. \n\nNebraska Nature Nerd Night is a free\, virtual series for curious adults\, exploring the secrets and science of nature in Nebraska through storytelling and conversation. Join hosts and science educators from Nebraska Game & Parks at 7pm Central on the third Tuesday of every month\, as we interview experts in the field about a variety of fascinating topics; from fungi\, fish\, turtles\, and even wildlife diseases! We’ll dive deeper into the remarkable world of nature found in Nebraska by having lively conversations with real scientists\, and by sharing and asking your questions with the experts. \nCan’t attend a live event? Don’t worry\, we have you covered. We will record each event and place it on our Game and Parks Education YouTube Channel the following day.
URL:https://www.nescifest.com/event/nebraska-nature-nerd-night-fantastic-fungi/
LOCATION:NE
CATEGORIES:Environment,Plants
ATTACH;FMTTYPE=image/jpeg:https://www.nescifest.com/wp-content/uploads/2022/03/NerdNature.jpgUSE.jpg
END:VEVENT
BEGIN:VEVENT
DTSTART;TZID=America/Chicago:20220420T090000
DTEND;TZID=America/Chicago:20220420T103000
DTSTAMP:20260419T211726
CREATED:20220323T183234Z
LAST-MODIFIED:20220323T183234Z
UID:10000586-1650445200-1650450600@www.nescifest.com
SUMMARY:Homeschool Hike
DESCRIPTION:Schramm Park is launching a new nature exploration program geared towards homeschool families. \nEach month\, join an outdoor educator for a guided hike on the Schramm Park hiking trails. As we explore\, we’ll ask questions\, draw\, observe\, and make discoveries in nature. You’ll have the opportunity to observe local phenomena\, plants\, and animals while exploring concepts such as patterns\, cause and effect\, and structure and function. \nREGISTER IN ADVANCE to reserve a spot: https://forms.gle/Vjg38GEqXHgGEkLFA. The cost to participate is $4 per child and $5 per adult per program. This includes admission to the Schramm Education Center after the program. Family pass members participate free. This program is recommended for ages 5 and up. \nParticipants should dress in season-appropriate layers and wear closed-toed shoes that can get dirty. Hats and water bottles are recommended. The day of the program\, come to the Schramm Education Center and check in and pay at the front desk upon arrival. \nNo park permit is required in the center’s parking lot. For questions about the program\, please contact Jen Ruyle\, Outdoor Education Specialist\, at 402-332-5022 or jennifer.ruyle@nebraska.gov.
URL:https://www.nescifest.com/event/homeschool-hike/
LOCATION:Schramm Education Center\, 21502 West Highway 31\, Gretna\, NE\, 68028\, United States
CATEGORIES:Environment,Fitness,Plants
ATTACH;FMTTYPE=image/jpeg:https://www.nescifest.com/wp-content/uploads/2022/03/homeschool-hikes-header.jpgUSE.jpg
END:VEVENT
END:VCALENDAR