BEGIN:VCALENDAR
VERSION:2.0
PRODID:-//Nebraska Science Festival - ECPv6.15.17.1//NONSGML v1.0//EN
CALSCALE:GREGORIAN
METHOD:PUBLISH
X-WR-CALNAME:Nebraska Science Festival
X-ORIGINAL-URL:https://www.nescifest.com
X-WR-CALDESC:Events for Nebraska Science Festival
REFRESH-INTERVAL;VALUE=DURATION:PT1H
X-Robots-Tag:noindex
X-PUBLISHED-TTL:PT1H
BEGIN:VTIMEZONE
TZID:America/Chicago
BEGIN:DAYLIGHT
TZOFFSETFROM:-0600
TZOFFSETTO:-0500
TZNAME:CDT
DTSTART:20250309T080000
END:DAYLIGHT
BEGIN:STANDARD
TZOFFSETFROM:-0500
TZOFFSETTO:-0600
TZNAME:CST
DTSTART:20251102T070000
END:STANDARD
BEGIN:DAYLIGHT
TZOFFSETFROM:-0600
TZOFFSETTO:-0500
TZNAME:CDT
DTSTART:20260308T080000
END:DAYLIGHT
BEGIN:STANDARD
TZOFFSETFROM:-0500
TZOFFSETTO:-0600
TZNAME:CST
DTSTART:20261101T070000
END:STANDARD
BEGIN:DAYLIGHT
TZOFFSETFROM:-0600
TZOFFSETTO:-0500
TZNAME:CDT
DTSTART:20270314T080000
END:DAYLIGHT
BEGIN:STANDARD
TZOFFSETFROM:-0500
TZOFFSETTO:-0600
TZNAME:CST
DTSTART:20271107T070000
END:STANDARD
END:VTIMEZONE
BEGIN:VEVENT
DTSTART;VALUE=DATE:20260401
DTEND;VALUE=DATE:20260501
DTSTAMP:20260421T143120
CREATED:20210310T200922Z
LAST-MODIFIED:20260225T164814Z
UID:10000496-1775001600-1777593599@www.nescifest.com
SUMMARY:NE SciFest Scavenger Hunt
DESCRIPTION:Let’s go outside and hunt for science! \nDownload the scavenger hunt (below) and go out and search for science. Ten quests await you – no matter where you live in Nebraska. You have all month long\, April 1-30\, to complete these tasks. Tag us on social media or email us and share your completed hunt! \nNESciFest-Scavenger-Hunt-2026 \n  \n 
URL:https://www.nescifest.com/event/ne-scifest-scavenger-hunt/
LOCATION:NE
CATEGORIES:Environment,Plants,Science (general)
ATTACH;FMTTYPE=image/jpeg:https://www.nescifest.com/wp-content/uploads/2021/03/Scavenger-Hunt-2021-02.jpg
END:VEVENT
BEGIN:VEVENT
DTSTART;TZID=America/Chicago:20260414T190000
DTEND;TZID=America/Chicago:20260414T210000
DTSTAMP:20260421T143120
CREATED:20260411T200729Z
LAST-MODIFIED:20260411T200729Z
UID:10002247-1776193200-1776200400@www.nescifest.com
SUMMARY:Nerd Nite Omaha
DESCRIPTION:Nerd Nite is grounded in this super nerdy\, highly engaging\, fun approach to learning. We’re looking forward to more engagement\, learning\, and connection over the topics our speakers nerd out about!\n\n\nJoin us! Be there and be square.\n\n\nThere are two awesome talks lined up for the April event:\n\n-Presentation #1: War! Huh! What is it good for? ADVANCING MEDICAL TECHNOLOGY by Emily Speck\n-Presentation #2: Successful Rain Gardens by Rocky Keehn
URL:https://www.nescifest.com/event/nerd-nite-omaha-3/
LOCATION:Saro Cider Lounge\, 1012 S 10th St.\, Omaha\, NE\, 68108\, United States
CATEGORIES:Environment,Health & Medicine,Plants,Science (general),Technology,Weather
ATTACH;FMTTYPE=image/jpeg:https://www.nescifest.com/wp-content/uploads/2023/03/nerd-nite.jpg
END:VEVENT
BEGIN:VEVENT
DTSTART;TZID=America/Chicago:20260419T130000
DTEND;TZID=America/Chicago:20260419T140000
DTSTAMP:20260421T143120
CREATED:20260123T161933Z
LAST-MODIFIED:20260225T162843Z
UID:10001593-1776603600-1776607200@www.nescifest.com
SUMMARY:Science Sunday
DESCRIPTION:Join the Nebraska Science Festival for Science Sunday from 1-2pm in April at the Omaha RiverFront by the slides.  This is a free family friendly hour for you to learn about nature\, astronomy\, chemistry\, medicine and more with hands-on science activities (while supplies last). \nScience Sunday Activities: \n\nApril 12 – Pi Bracelet Making  \n\n\nApril 19 – Constellation Making \n\n\nApril 26 – Seed balls (please note we will be moving to the Lewis & Clark Landing for the Earth Day celebration on this day)  \n\n 
URL:https://www.nescifest.com/event/science-sunday-3-2/2026-04-19/
LOCATION:Omaha RiverFront\, 1001 Douglas Street\, Omaha\, NE\, 68102\, United States
CATEGORIES:Animals,Environment,Food & Drink,Health & Medicine,Plants,Science (general),Technology
ATTACH;FMTTYPE=image/jpeg:https://www.nescifest.com/wp-content/uploads/2023/02/webScience_Sunday_2023.jpg
END:VEVENT
BEGIN:VEVENT
DTSTART;TZID=America/Chicago:20260419T140000
DTEND;TZID=America/Chicago:20260419T153000
DTSTAMP:20260421T143120
CREATED:20260202T224040Z
LAST-MODIFIED:20260319T184503Z
UID:10001597-1776607200-1776612600@www.nescifest.com
SUMMARY:Spring Wildflower Walk
DESCRIPTION:Embrace the natural beauty of the Forest at Fontenelle Forest’s Spring Wildflower Walk. Their Naturalist Educator will lead you on a hike to discover some spring wildflowers such as Spring Beauties\, Bloodroot\, and Dutchman’s Breeches. Whether you’re a seasoned enthusiast or a first-time explorer of spring wildflowers\, this program offers an opportunity to witness the fleeting beauty of spring. \n  \nThis program is $10 for members and $25 for non-members (price includes daily admission). Pre-registration is required. Members must sign in to receive discount.
URL:https://www.nescifest.com/event/spring-wildflower-walk/
LOCATION:Fontenelle Forest\, 1111 Bellevue Blvd. N.\, Bellevue\, NE\, 68005\, United States
CATEGORIES:Environment,Plants,Science (general)
ATTACH;FMTTYPE=image/png:https://www.nescifest.com/wp-content/uploads/2026/02/Wildflowerhike.png
END:VEVENT
END:VCALENDAR