BEGIN:VCALENDAR
VERSION:2.0
PRODID:-//Nebraska Science Festival - ECPv6.15.17.1//NONSGML v1.0//EN
CALSCALE:GREGORIAN
METHOD:PUBLISH
X-ORIGINAL-URL:https://www.nescifest.com
X-WR-CALDESC:Events for Nebraska Science Festival
REFRESH-INTERVAL;VALUE=DURATION:PT1H
X-Robots-Tag:noindex
X-PUBLISHED-TTL:PT1H
BEGIN:VTIMEZONE
TZID:America/Chicago
BEGIN:DAYLIGHT
TZOFFSETFROM:-0600
TZOFFSETTO:-0500
TZNAME:CDT
DTSTART:20220313T080000
END:DAYLIGHT
BEGIN:STANDARD
TZOFFSETFROM:-0500
TZOFFSETTO:-0600
TZNAME:CST
DTSTART:20221106T070000
END:STANDARD
BEGIN:DAYLIGHT
TZOFFSETFROM:-0600
TZOFFSETTO:-0500
TZNAME:CDT
DTSTART:20230312T080000
END:DAYLIGHT
BEGIN:STANDARD
TZOFFSETFROM:-0500
TZOFFSETTO:-0600
TZNAME:CST
DTSTART:20231105T070000
END:STANDARD
BEGIN:DAYLIGHT
TZOFFSETFROM:-0600
TZOFFSETTO:-0500
TZNAME:CDT
DTSTART:20240310T080000
END:DAYLIGHT
BEGIN:STANDARD
TZOFFSETFROM:-0500
TZOFFSETTO:-0600
TZNAME:CST
DTSTART:20241103T070000
END:STANDARD
END:VTIMEZONE
BEGIN:VEVENT
DTSTART;TZID=America/Chicago:20230418T090000
DTEND;TZID=America/Chicago:20230418T170000
DTSTAMP:20260422T065515
CREATED:20230216T163229Z
LAST-MODIFIED:20230216T163229Z
UID:10000654-1681808400-1681837200@www.nescifest.com
SUMMARY:Above and Beyond
DESCRIPTION:Stop by the Strategic Air Command & Aerospace Museum to view their latest exhibit\, Above and Beyond. \nAbove and Beyond celebrates the power of innovation. Packed with interactive challenges; vehicle concept models and prototypes; immersive media presentations; and inspiring innovator stories\, this exhibition invites you to experience what it takes to make impossible dreams take flight. \nRegular museum admission.
URL:https://www.nescifest.com/event/above-and-beyond/2023-04-18/
LOCATION:Strategic Air Command & Aerospace Museum\, 28210 W Park Hwy\, Ashland\, NE\, 68003\, United States
CATEGORIES:Science (general),Technology
ATTACH;FMTTYPE=image/png:https://www.nescifest.com/wp-content/uploads/2023/02/AboveBeyond_Square.png
END:VEVENT
BEGIN:VEVENT
DTSTART;TZID=America/Chicago:20230418T183000
DTEND;TZID=America/Chicago:20230418T193000
DTSTAMP:20260422T065515
CREATED:20230222T191532Z
LAST-MODIFIED:20230222T191532Z
UID:10000697-1681842600-1681846200@www.nescifest.com
SUMMARY:Build\, Connect\, Create
DESCRIPTION:Let your imagination run wild as you explore the Kearney Library‘s collection of STEM toys\, including Blocks Rock\, Domino Race\, KEVA Planks\, Snap Circuits\, and more! What is STEM? It stands for Science\, Technology\, Engineering\, and Mathematics. There is a push for youth to start learning about STEM early to empower them with skills to succeed and adapt to our increasingly complex and changing technological world.
URL:https://www.nescifest.com/event/build-connect-create-2/
LOCATION:City of Kearney Public Library\, 2020 1st Avenue\, Kearney\, NE\, 68847\, United States
CATEGORIES:Science (general),Technology
ATTACH;FMTTYPE=image/jpeg:https://www.nescifest.com/wp-content/uploads/2022/03/BuildConnectCreate.jpgUSE.jpg
END:VEVENT
END:VCALENDAR