BEGIN:VCALENDAR
VERSION:2.0
PRODID:-//Nebraska Science Festival - ECPv6.15.17.1//NONSGML v1.0//EN
CALSCALE:GREGORIAN
METHOD:PUBLISH
X-WR-CALNAME:Nebraska Science Festival
X-ORIGINAL-URL:https://www.nescifest.com
X-WR-CALDESC:Events for Nebraska Science Festival
REFRESH-INTERVAL;VALUE=DURATION:PT1H
X-Robots-Tag:noindex
X-PUBLISHED-TTL:PT1H
BEGIN:VTIMEZONE
TZID:America/Chicago
BEGIN:DAYLIGHT
TZOFFSETFROM:-0600
TZOFFSETTO:-0500
TZNAME:CDT
DTSTART:20250309T080000
END:DAYLIGHT
BEGIN:STANDARD
TZOFFSETFROM:-0500
TZOFFSETTO:-0600
TZNAME:CST
DTSTART:20251102T070000
END:STANDARD
BEGIN:DAYLIGHT
TZOFFSETFROM:-0600
TZOFFSETTO:-0500
TZNAME:CDT
DTSTART:20260308T080000
END:DAYLIGHT
BEGIN:STANDARD
TZOFFSETFROM:-0500
TZOFFSETTO:-0600
TZNAME:CST
DTSTART:20261101T070000
END:STANDARD
BEGIN:DAYLIGHT
TZOFFSETFROM:-0600
TZOFFSETTO:-0500
TZNAME:CDT
DTSTART:20270314T080000
END:DAYLIGHT
BEGIN:STANDARD
TZOFFSETFROM:-0500
TZOFFSETTO:-0600
TZNAME:CST
DTSTART:20271107T070000
END:STANDARD
END:VTIMEZONE
BEGIN:VEVENT
DTSTART;TZID=America/Chicago:20260429T140000
DTEND;TZID=America/Chicago:20260429T170000
DTSTAMP:20260425T090142
CREATED:20260421T192420Z
LAST-MODIFIED:20260421T192420Z
UID:10002255-1777471200-1777482000@www.nescifest.com
SUMMARY:Makerspace Open Hours
DESCRIPTION:Visit the Maker Studio at the Columbus Public Library during their open hours to learn more about the space and the equipment available. \nCome in and use their Cricut\, Laminator\, Sublimation Printer\, Heat & Mug Press\, and VHS to MP4 video conversion. \n 
URL:https://www.nescifest.com/event/makerspace-open-hours/
LOCATION:Columbus Public Library\, 2500 14th St.\, Columbus\, NE\, 68601\, United States
CATEGORIES:Technology
ATTACH;FMTTYPE=image/png:https://www.nescifest.com/wp-content/uploads/2026/04/museakerspace.png
END:VEVENT
END:VCALENDAR