BEGIN:VCALENDAR
VERSION:2.0
PRODID:-//Nebraska Science Festival - ECPv6.15.17.1//NONSGML v1.0//EN
CALSCALE:GREGORIAN
METHOD:PUBLISH
X-ORIGINAL-URL:https://www.nescifest.com
X-WR-CALDESC:Events for Nebraska Science Festival
REFRESH-INTERVAL;VALUE=DURATION:PT1H
X-Robots-Tag:noindex
X-PUBLISHED-TTL:PT1H
BEGIN:VTIMEZONE
TZID:America/Chicago
BEGIN:DAYLIGHT
TZOFFSETFROM:-0600
TZOFFSETTO:-0500
TZNAME:CDT
DTSTART:20200308T080000
END:DAYLIGHT
BEGIN:STANDARD
TZOFFSETFROM:-0500
TZOFFSETTO:-0600
TZNAME:CST
DTSTART:20201101T070000
END:STANDARD
BEGIN:DAYLIGHT
TZOFFSETFROM:-0600
TZOFFSETTO:-0500
TZNAME:CDT
DTSTART:20210314T080000
END:DAYLIGHT
BEGIN:STANDARD
TZOFFSETFROM:-0500
TZOFFSETTO:-0600
TZNAME:CST
DTSTART:20211107T070000
END:STANDARD
BEGIN:DAYLIGHT
TZOFFSETFROM:-0600
TZOFFSETTO:-0500
TZNAME:CDT
DTSTART:20220313T080000
END:DAYLIGHT
BEGIN:STANDARD
TZOFFSETFROM:-0500
TZOFFSETTO:-0600
TZNAME:CST
DTSTART:20221106T070000
END:STANDARD
END:VTIMEZONE
BEGIN:VEVENT
DTSTART;TZID=America/Chicago:20210415T180000
DTEND;TZID=America/Chicago:20210415T200000
DTSTAMP:20260422T073318
CREATED:20210311T211929Z
LAST-MODIFIED:20210311T211929Z
UID:10000512-1618509600-1618516800@www.nescifest.com
SUMMARY:Acrylic Fluid Art Workshop - Grand Island
DESCRIPTION:Learn at least 16 of the latest techniques of acrylic fluid art-acrylic pouring! This technique can be used as a standalone piece of art or as a base for additional art\, such as stencils\, original art or mixed media. This is a form of art everyone can do and it is quite addicting once you start. \nThe first part of the class will consist of demonstrations of the techniques and explanations of what the best surfaces are for each technique. Learn about surface preparation and the materials to use for the best results and how to get the coveted “cells”. Once the demonstration is done it is your turn. Choose your favorite techniques to try as you pour on two wood blanks. \nRegistration required.
URL:https://www.nescifest.com/event/acrylic-fluid-art-workshop-grand-island/
LOCATION:Central Community College\, 3134 W US Highway 34\, Grand Island\, NE\, 68001
CATEGORIES:Arts & Culture
ATTACH;FMTTYPE=image/jpeg:https://www.nescifest.com/wp-content/uploads/2021/03/GI.jpg5_.jpg
END:VEVENT
END:VCALENDAR