BEGIN:VCALENDAR
VERSION:2.0
PRODID:-//Nebraska Science Festival - ECPv6.15.17.1//NONSGML v1.0//EN
CALSCALE:GREGORIAN
METHOD:PUBLISH
X-ORIGINAL-URL:https://www.nescifest.com
X-WR-CALDESC:Events for Nebraska Science Festival
REFRESH-INTERVAL;VALUE=DURATION:PT1H
X-Robots-Tag:noindex
X-PUBLISHED-TTL:PT1H
BEGIN:VTIMEZONE
TZID:America/Chicago
BEGIN:DAYLIGHT
TZOFFSETFROM:-0600
TZOFFSETTO:-0500
TZNAME:CDT
DTSTART:20220313T080000
END:DAYLIGHT
BEGIN:STANDARD
TZOFFSETFROM:-0500
TZOFFSETTO:-0600
TZNAME:CST
DTSTART:20221106T070000
END:STANDARD
BEGIN:DAYLIGHT
TZOFFSETFROM:-0600
TZOFFSETTO:-0500
TZNAME:CDT
DTSTART:20230312T080000
END:DAYLIGHT
BEGIN:STANDARD
TZOFFSETFROM:-0500
TZOFFSETTO:-0600
TZNAME:CST
DTSTART:20231105T070000
END:STANDARD
BEGIN:DAYLIGHT
TZOFFSETFROM:-0600
TZOFFSETTO:-0500
TZNAME:CDT
DTSTART:20240310T080000
END:DAYLIGHT
BEGIN:STANDARD
TZOFFSETFROM:-0500
TZOFFSETTO:-0600
TZNAME:CST
DTSTART:20241103T070000
END:STANDARD
BEGIN:DAYLIGHT
TZOFFSETFROM:-0600
TZOFFSETTO:-0500
TZNAME:CDT
DTSTART:20250309T080000
END:DAYLIGHT
BEGIN:STANDARD
TZOFFSETFROM:-0500
TZOFFSETTO:-0600
TZNAME:CST
DTSTART:20251102T070000
END:STANDARD
BEGIN:DAYLIGHT
TZOFFSETFROM:-0600
TZOFFSETTO:-0500
TZNAME:CDT
DTSTART:20260308T080000
END:DAYLIGHT
BEGIN:STANDARD
TZOFFSETFROM:-0500
TZOFFSETTO:-0600
TZNAME:CST
DTSTART:20261101T070000
END:STANDARD
END:VTIMEZONE
BEGIN:VEVENT
DTSTART;TZID=America/Chicago:20250426T140000
DTEND;TZID=America/Chicago:20250426T150000
DTSTAMP:20260424T062350
CREATED:20250310T184423Z
LAST-MODIFIED:20250310T184423Z
UID:10001562-1745676000-1745679600@www.nescifest.com
SUMMARY:Skeletons on the Screen: Dr. Katie East
DESCRIPTION:Join Dr. Katie East for an entertaining look into forensic anthropology on the screen to learn what forensic anthropologists actually do. Compare television\, movies and real life. It may be entertaining when pop culture gets forensic anthropology wrong\, but the consequences are more real than you think. \nThis is a free event for teens aged 13-19.
URL:https://www.nescifest.com/event/skeletons-on-the-screen-dr-katie-east-3/
LOCATION:Willa Cather Branch\, 905 S. 44th St.\, Omaha\, NE\, 68105\, United States
CATEGORIES:Health & Medicine,Science (general)
ATTACH;FMTTYPE=image/png:https://www.nescifest.com/wp-content/uploads/2025/03/skeletonzuse.png
END:VEVENT
BEGIN:VEVENT
DTSTART;TZID=America/Chicago:20230415T140000
DTEND;TZID=America/Chicago:20230415T150000
DTSTAMP:20260424T062350
CREATED:20230307T192945Z
LAST-MODIFIED:20230412T223926Z
UID:10000800-1681567200-1681570800@www.nescifest.com
SUMMARY:Omaha Children's Museum Visits Willa Cather Branch
DESCRIPTION:Become a Space Cadet and join staff from the Omaha Children’s Museum in a tour of our solar system and learn important physics\, chemistry\, and engineering concepts. Blast off with a combustion reaction\, find out what happens when there is no air pressure\, and watch as we make our own version of a comet! \nThe program is geared for kids grades K-5\, but all ages are welcome.
URL:https://www.nescifest.com/event/omaha-childrens-museum-visits-willa-cather-branch/
LOCATION:Willa Cather Branch\, 905 S. 44th St.\, Omaha\, NE\, 68105\, United States
CATEGORIES:Astronomy
ATTACH;FMTTYPE=image/png:https://www.nescifest.com/wp-content/uploads/2023/03/solar-system-5611038_1280.png
END:VEVENT
END:VCALENDAR