BEGIN:VCALENDAR
VERSION:2.0
PRODID:-//Nebraska Science Festival - ECPv6.15.17.1//NONSGML v1.0//EN
CALSCALE:GREGORIAN
METHOD:PUBLISH
X-WR-CALNAME:Nebraska Science Festival
X-ORIGINAL-URL:https://www.nescifest.com
X-WR-CALDESC:Events for Nebraska Science Festival
REFRESH-INTERVAL;VALUE=DURATION:PT1H
X-Robots-Tag:noindex
X-PUBLISHED-TTL:PT1H
BEGIN:VTIMEZONE
TZID:America/Chicago
BEGIN:DAYLIGHT
TZOFFSETFROM:-0600
TZOFFSETTO:-0500
TZNAME:CDT
DTSTART:20250309T080000
END:DAYLIGHT
BEGIN:STANDARD
TZOFFSETFROM:-0500
TZOFFSETTO:-0600
TZNAME:CST
DTSTART:20251102T070000
END:STANDARD
BEGIN:DAYLIGHT
TZOFFSETFROM:-0600
TZOFFSETTO:-0500
TZNAME:CDT
DTSTART:20260308T080000
END:DAYLIGHT
BEGIN:STANDARD
TZOFFSETFROM:-0500
TZOFFSETTO:-0600
TZNAME:CST
DTSTART:20261101T070000
END:STANDARD
BEGIN:DAYLIGHT
TZOFFSETFROM:-0600
TZOFFSETTO:-0500
TZNAME:CDT
DTSTART:20270314T080000
END:DAYLIGHT
BEGIN:STANDARD
TZOFFSETFROM:-0500
TZOFFSETTO:-0600
TZNAME:CST
DTSTART:20271107T070000
END:STANDARD
END:VTIMEZONE
BEGIN:VEVENT
DTSTART;TZID=America/Chicago:20260413T183000
DTEND;TZID=America/Chicago:20260413T203000
DTSTAMP:20260420T064341
CREATED:20260306T145417Z
LAST-MODIFIED:20260408T012638Z
UID:3044-1776105000-1776112200@www.nescifest.com
SUMMARY:Hidden Figures - SOLD OUT
DESCRIPTION:Join NE SciFest and NASA Nebraska Space Grant for a free showing of “Hidden Figures.” \nThe film recounts the true story of the African-American mathematics genius\, Katherine Johnson\, and her two fellow colleagues\, Dorothy Vaughan and Mary Jackson\, who helped NASA win the Space Race. Using their mathematical calculations\, John Glenn became the first American astronaut to orbit the Earth. \nDoors open at 6:30pm\, movie begins at 7pm. \nFor free tickets email your name and ticket quantity to nescifest@gmail.com. 
URL:https://www.nescifest.com/event/hidden-figures/
LOCATION:Film Streams’ Ruth Sokolof Theater\, 1340 Mike Fahey St.\, Omaha\, NE\, 68102\, United States
CATEGORIES:Astronomy,Science (general),Technology
ATTACH;FMTTYPE=image/jpeg:https://www.nescifest.com/wp-content/uploads/2026/03/hiddenuse.jpg
END:VEVENT
END:VCALENDAR